BEGIN:VCALENDAR
VERSION:2.0
PRODID:-//ChamberMaster//Event Calendar 2.0//EN
METHOD:PUBLISH
X-PUBLISHED-TTL:P3D
REFRESH-INTERVAL:P3D
CALSCALE:GREGORIAN
BEGIN:VEVENT
DTSTART:20180406T000000Z
DTEND:20180406T010000Z
X-MICROSOFT-CDO-ALLDAYEVENT:FALSE
SUMMARY:Klovus Ribbon Cutting
DESCRIPTION:Join us for a ribbon cutting ceremony to celebrate the grand opening of Klovus in the Villa Del Sol.
X-ALT-DESC;FMTTYPE=text/html:<p><span style="font-family:arial\;"><span style="color: rgb(68\, 68\, 68)\;">Join us for a ribbon cutting ceremony to celebrate the grand opening of&nbsp\;</span></span><a href="http://klovus.net/" target="_blank"><span style="font-size:14px\;">Klovus</span></a><span style="font-family:arial\;"><a href="https://www.bergerallied.com/" style="margin: 0px\; padding: 0px\; border: none\; font-variant-numeric: inherit\; font-variant-east-asian: inherit\; font-stretch: inherit\; font-size: 14px\; line-height: inherit\; font-family: Arial\, Helvetica\, sans-serif\; vertical-align: baseline\; color: rgb(34\, 72\, 132)\; text-decoration-line: none\; outline: 0px\; transition: color 0.1s ease-in-out\; bottom: auto\; box-sizing: content-box\; clear: none\; content: normal\; direction: inherit\; display: inline\; empty-cells: show\; float: none\; left: auto\; max-height: none\; max-width: none\; min-height: initial\; min-width: initial\; opacity: 1\; outline-offset: 0px\; overflow: visible\; position: static\; resize: none\; right: auto\; table-layout: auto\; text-overflow: clip\; top: auto\; visibility: inherit\; word-break: inherit\; word-wrap: break-word\; z-index: auto\; background-image: none\; background-position: initial\; background-size: initial\; background-repeat: initial\; background-attachment: initial\; background-origin: initial\; background-clip: initial\; border-collapse: separate\; border-radius: 0px\; height: auto\; width: auto\; box-shadow: none\;" target="_blank"><font color="#0066cc">&nbsp\;</font></a><span style="color: rgb(68\, 68\, 68)\;">in the Villa Del Sol.</span></span></p>\n
LOCATION:Klovus 305 N. Harbor Blvd.\, Suite 201 Fullerton\, CA 92832
UID:e.887.21261
SEQUENCE:3
DTSTAMP:20260422T004545Z
URL:https://business.nocchamber.com/events/details/klovus-ribbon-cutting-21261
END:VEVENT

END:VCALENDAR
