BEGIN:VCALENDAR
VERSION:2.0
PRODID:-//ChamberMaster//Event Calendar 2.0//EN
METHOD:PUBLISH
X-PUBLISHED-TTL:P3D
REFRESH-INTERVAL:P3D
CALSCALE:GREGORIAN
BEGIN:VEVENT
DTSTART:20180414T200000Z
DTEND:20180414T230000Z
X-MICROSOFT-CDO-ALLDAYEVENT:FALSE
SUMMARY:Kids World Fest 2018 in Buena Park
DESCRIPTION:The Source celebrates the 2nd arts & music festival for kids! \n\n\n\nJoin us for a day of music\, crafts\, and fun for all ages! Show your moves with a hip-hop dance class by WeBreak and take part in arts & crafts\, games and other activities with the Boys & Girls Club of Buena Park\, Buena Park Library\, Children's Museum of La Habra and the Consulate of Mexico\, Santa Ana. Featuring special performances by the Emmy and Grammy Award winning band\, Lucky Diaz and the Family Jam Band.\n\n\n\nAlso\, don't forget to bring a canned or dry food item to help support Giving Children Hope's "Tackling Child Hunger" Food Drive! With every donation\, you're entered into the raffle for a chance to win cool prizes from The Source!
X-ALT-DESC;FMTTYPE=text/html:The Source celebrates the 2nd arts &amp\; music festival for kids!&nbsp\;<br>\n<br>\nJoin us for a day of music\, crafts\, and fun for all ages! Show your moves with a hip-hop dance class by WeBreak and take part in arts &amp\; crafts\, games and other activities with the Boys &amp\; Girls Club of Buena Park\, Buena Park Library\, Children's Museum of La Habra and the Consulate of Mexico\, Santa Ana. Featuring special performances by the Emmy and Grammy Award winning band\, Lucky Diaz and the Family Jam Band.<br>\n<br>\nAlso\, don't forget to bring a canned or dry food item to help support Giving Children Hope's "Tackling Child Hunger" Food Drive! With every donation\, you're entered into the raffle for a chance to win cool prizes from The Source!
LOCATION:The Source OC 6940 Beach Boulevard Buena Park\, CA 90621
UID:e.887.21292
SEQUENCE:3
DTSTAMP:20260421T233425Z
URL:https://business.nocchamber.com/events/details/kids-world-fest-2018-in-buena-park-21292
END:VEVENT

END:VCALENDAR
