BEGIN:VCALENDAR
VERSION:2.0
PRODID:-//ChamberMaster//Event Calendar 2.0//EN
METHOD:PUBLISH
X-PUBLISHED-TTL:P3D
REFRESH-INTERVAL:P3D
CALSCALE:GREGORIAN
BEGIN:VEVENT
DTSTART:20190430T180000Z
DTEND:20190501T030000Z
X-MICROSOFT-CDO-ALLDAYEVENT:FALSE
SUMMARY:KACCOC - 2019 Golf Tournament
DESCRIPTION:The Korean American Chamber of Commerce of Orange County is hosting its Golf Tournament at Coyote Hills Golf Course on Tuesday\, April 30.\n\n\n\nThe cost is $120 per player with dinner and drink included. Registration is at 11:00 a.m.\, then the Shotgun Tee Off at 1:00 p.m.\, followed by the Dinner Banquet at 6:00 p.m.
X-ALT-DESC;FMTTYPE=text/html:The Korean American Chamber of Commerce of Orange County is hosting its Golf Tournament at Coyote Hills Golf Course on Tuesday\, April 30.<br />\n<br />\nThe cost is $120 per player with dinner and drink included. Registration is at 11:00 a.m.\, then the Shotgun Tee Off at 1:00 p.m.\, followed by the Dinner Banquet at 6:00 p.m.
LOCATION:Coyote Hills Golf Course 1440 E. Bastanchury Rd. Fullerton\, CA 92835
UID:e.887.23130
SEQUENCE:3
DTSTAMP:20260422T065427Z
URL:https://business.nocchamber.com/events/details/kaccoc-2019-golf-tournament-23130
END:VEVENT

END:VCALENDAR
