BEGIN:VCALENDAR
VERSION:2.0
PRODID:-//ChamberMaster//Event Calendar 2.0//EN
METHOD:PUBLISH
X-PUBLISHED-TTL:P3D
REFRESH-INTERVAL:P3D
CALSCALE:GREGORIAN
BEGIN:VEVENT
DTSTART:20181213T163000Z
DTEND:20181214T010000Z
X-MICROSOFT-CDO-ALLDAYEVENT:FALSE
SUMMARY:John Wayne Airport (JWA) - Public Outreach Informational Meeting
DESCRIPTION:John Wayne Airport organizing Public Outreach Informational Meeting:\n\n	Food and beverage\n	Specialty retail concessions\n	Upcoming airport request for proposal (RFP) solicitation
X-ALT-DESC;FMTTYPE=text/html:John Wayne Airport organizing Public Outreach Informational Meeting:\n<ul>\n	<li>Food and beverage</li>\n	<li>Specialty retail concessions</li>\n	<li>Upcoming airport request for proposal (RFP) solicitation</li>\n</ul>\n
LOCATION:Wyndham Irvine - Orange County Airport 17941 Von Karman Ave. Irvine\, CA 92614
UID:e.887.22880
SEQUENCE:3
DTSTAMP:20260422T120017Z
URL:https://business.nocchamber.com/events/details/john-wayne-airport-jwa-public-outreach-informational-meeting-22880
END:VEVENT

END:VCALENDAR
