BEGIN:VCALENDAR
VERSION:2.0
PRODID:-//ChamberMaster//Event Calendar 2.0//EN
METHOD:PUBLISH
X-PUBLISHED-TTL:P3D
REFRESH-INTERVAL:P3D
CALSCALE:GREGORIAN
BEGIN:VEVENT
DTSTART:20180422T230000Z
DTEND:20180423T010000Z
X-MICROSOFT-CDO-ALLDAYEVENT:FALSE
SUMMARY:Jazz Safari - Live Music Concert (Music Series)
DESCRIPTION:Wind down the weekend with some live jazz music\, performed by Jazz Safari! Enjoy this free performance on Sunday from 4:00 p.m. to 6:00 p.m. at the 1st floor Main Plaza of The Source.
X-ALT-DESC;FMTTYPE=text/html:Wind down the weekend with some live jazz music\, performed by Jazz Safari! Enjoy this free performance on Sunday from 4:00 p.m. to 6:00 p.m. at the 1st floor Main Plaza of The Source.
LOCATION:Main Plaza on First Floor The Source OC 6940 Beach Blvd Buena Park\, CA 90621
UID:e.887.21347
SEQUENCE:3
DTSTAMP:20260421T231401Z
URL:https://business.nocchamber.com/events/details/jazz-safari-live-music-concert-music-series-21347
END:VEVENT

END:VCALENDAR
