BEGIN:VCALENDAR
VERSION:2.0
PRODID:-//ChamberMaster//Event Calendar 2.0//EN
METHOD:PUBLISH
X-PUBLISHED-TTL:P3D
REFRESH-INTERVAL:P3D
CALSCALE:GREGORIAN
BEGIN:VEVENT
DTSTART:20180429T230000Z
DTEND:20180430T010000Z
X-MICROSOFT-CDO-ALLDAYEVENT:FALSE
SUMMARY:Jazz Safari at The Source OC
DESCRIPTION:Wind down the weekend with some live jazz music\, performed by Jazz Safari!\n\n\n\nEnjoy this free performance on Sunday from 4:00- 6:00 p.m. in the Main Plaza on the the first floor of The Source.
X-ALT-DESC;FMTTYPE=text/html:Wind down the weekend with some live jazz music\, performed by Jazz Safari!<br />\n<br />\nEnjoy this free performance on Sunday from 4:00- 6:00 p.m.&nbsp\;in the Main Plaza on the the first floor of The Source.&nbsp\;
LOCATION:The Source OC 6940 Beach Blvd\, Buena Park\, CA 90621
UID:e.887.21361
SEQUENCE:3
DTSTAMP:20260422T023529Z
URL:https://business.nocchamber.com/events/details/jazz-safari-at-the-source-oc-21361
END:VEVENT

END:VCALENDAR
