BEGIN:VCALENDAR
VERSION:2.0
PRODID:-//ChamberMaster//Event Calendar 2.0//EN
METHOD:PUBLISH
X-PUBLISHED-TTL:P3D
REFRESH-INTERVAL:P3D
CALSCALE:GREGORIAN
BEGIN:VEVENT
DTSTART:20190214T023000Z
DTEND:20190214T053000Z
X-MICROSOFT-CDO-ALLDAYEVENT:FALSE
SUMMARY:Jazz Festival Preview Reception
DESCRIPTION:A pep-rally\, celebration\, and thank you to Jazz Fest season ticket holders. \n\n\n\nPerformances by trio-KAIT with Kait Dunton. Featuring Jake Reed\, Cooper Appelt\, and Grammy-winning Jazz piano brilliance from Bill Cunliffe.
X-ALT-DESC;FMTTYPE=text/html:A pep-rally\, celebration\, and thank you to Jazz Fest season ticket holders.&nbsp\;<br />\n<br />\nPerformances by trio-KAIT with Kait Dunton. Featuring Jake Reed\, Cooper Appelt\, and Grammy-winning Jazz piano brilliance from Bill Cunliffe.<br />\n&nbsp\;
LOCATION:The Muckenthaler Cultural Center 1201 W. Malvern Ave Fullerton\, CA 92833
UID:e.887.22989
SEQUENCE:3
DTSTAMP:20260422T093245Z
URL:https://business.nocchamber.com/events/details/jazz-festival-preview-reception-22989
END:VEVENT

END:VCALENDAR
