BEGIN:VCALENDAR
VERSION:2.0
PRODID:-//ChamberMaster//Event Calendar 2.0//EN
METHOD:PUBLISH
X-PUBLISHED-TTL:P3D
REFRESH-INTERVAL:P3D
CALSCALE:GREGORIAN
BEGIN:VEVENT
DTSTART:20180421T210000Z
DTEND:20180421T220000Z
X-MICROSOFT-CDO-ALLDAYEVENT:FALSE
SUMMARY:Jargie the Science Girl at The Source
DESCRIPTION:PlayClub at The Source welcomes Jargie the Science Girl this Saturday 4/21 from 2-3PM! Join Jargie and the other PlayClub members for a journey of scientific exploration!\n\n\n\nThis is a FREE event for all PlayClub members\, and you can also sign up to become a member at the event. PlayClub is a weekly kid's club featuring different fun activities every Saturday from 2-3PM! Click here for more information!
X-ALT-DESC;FMTTYPE=text/html:PlayClub at The Source welcomes<a href="https://thesourceoc.us13.list-manage.com/track/click?u=075193b0f355a2c460d0abeb8&amp\;id=625a2a238b&amp\;e=fee7c76faf" target="_blank"> Jargie the Science Girl </a>this Saturday 4/21 from 2-3PM! Join Jargie and the other PlayClub members for a journey of scientific exploration!<br />\n<br />\nThis is a FREE event for all PlayClub members\, and you can also sign up to become a member at the event. PlayClub is a weekly kid&#39\;s club featuring different fun activities every Saturday from 2-3PM! <a href="https://thesourceoc.us13.list-manage.com/track/click?u=075193b0f355a2c460d0abeb8&amp\;id=d02258f14d&amp\;e=fee7c76faf" target="_blank">Click here</a>&nbsp\;for more information!
LOCATION:Playclub The Source OC 6940 Beach Blvd Buena Park\, CA 90621
UID:e.887.21346
SEQUENCE:3
DTSTAMP:20260421T233241Z
URL:https://business.nocchamber.com/events/details/jargie-the-science-girl-at-the-source-21346
END:VEVENT

END:VCALENDAR
