BEGIN:VCALENDAR
VERSION:2.0
PRODID:-//ChamberMaster//Event Calendar 2.0//EN
METHOD:PUBLISH
X-PUBLISHED-TTL:P3D
REFRESH-INTERVAL:P3D
CALSCALE:GREGORIAN
BEGIN:VEVENT
DTSTART:20200127T163000Z
DTEND:20200128T000000Z
X-MICROSOFT-CDO-ALLDAYEVENT:FALSE
SUMMARY:Irvine - Asian Development Bank Workshop
DESCRIPTION:This event is an opportunity to meet with Senior Procurement Officials from the Asian Development Bank (ADB).  As part of their national outreach series\, visiting ADB Procurement Officials will be conducting briefings\, round tables\, and private consultations with U.S. firms seeking to tap into opportunities within ADB.\n\nWho Should Attend:\n\nThis Business Opportunities Seminar is designed for U.S. manufacturers\, suppliers\, project developers\, and consultants to learn both how to bid on consulting and infrastructure projects supported financially by ADB and how to plug into the supply chain for these projects. This event is open to companies of all sizes and small companies in particular are encouraged to attend.\n\nAsia Development Bank (ADB):\n\nThe Asia Development Bank is committed to achieving a prosperous\, inclusive\, resilient\, and sustainable Asia and the Pacific\, while sustaining its efforts to eradicate extreme poverty. Established in 1966\, it is owned by 68 members 49 from the region.\n\nWhat does ADB do?\n\nThe Asian Development Bank (ADB) supports projects in developing member countries that create economic and development impact\, delivered through both public and private sector operations\, advisory services\, and knowledge support.\n\nKey Sectors & Priorities: Infrastructure\, environment\, transportation (airports\, ports development)\, ICT\, including cybersecurity\, disaster preparedness\, and government/capacity building.
X-ALT-DESC;FMTTYPE=text/html:<p>This event is an opportunity to meet with Senior Procurement Officials from the Asian Development Bank (ADB).&nbsp\; As&nbsp\;part of their national outreach series\, visiting ADB Procurement Officials will be conducting briefings\, round tables\, and private consultations with U.S. firms seeking to tap into opportunities within ADB.</p>\n\n<p><u>Who Should Attend:</u><br />\nThis Business Opportunities Seminar is designed for U.S. manufacturers\, suppliers\, project developers\, and consultants to learn both how to bid on consulting and infrastructure projects supported financially by ADB and how to plug into the supply chain for these projects. This event is open to companies of all sizes and small companies in particular are encouraged to attend.</p>\n\n<p><u>Asia Development Bank (ADB):</u><br />\nThe Asia Development Bank is committed to achieving a prosperous\, inclusive\, resilient\, and sustainable Asia and the Pacific\, while sustaining its efforts to eradicate extreme poverty. Established in 1966\, it is owned by 68 members&mdash\;49 from the region.</p>\n\n<p><u>What does ADB do?</u><br />\nThe Asian Development Bank (ADB) supports projects in developing member countries that create economic and development impact\, delivered through both public and private sector operations\, advisory services\, and knowledge support.</p>\n\n<p><u>Key Sectors &amp\; Priorities</u>:&nbsp\;Infrastructure\, environment\, transportation (airports\, ports development)\, ICT\, including cybersecurity\, disaster preparedness\, and government/capacity building.</p>\n
LOCATION:USC Orange County Center 2300 Michelson Dr. Irvine\, CA 92612
UID:e.887.24069
SEQUENCE:3
DTSTAMP:20260421T191137Z
URL:https://business.nocchamber.com/events/details/irvine-asian-development-bank-workshop-24069
END:VEVENT

END:VCALENDAR
