BEGIN:VCALENDAR
VERSION:2.0
PRODID:-//ChamberMaster//Event Calendar 2.0//EN
METHOD:PUBLISH
X-PUBLISHED-TTL:P3D
REFRESH-INTERVAL:P3D
CALSCALE:GREGORIAN
BEGIN:VEVENT
DTSTART:20200522T200000Z
DTEND:20200522T230000Z
X-MICROSOFT-CDO-ALLDAYEVENT:FALSE
SUMMARY:Internship Career Expo
DESCRIPTION:Virtual  Career Fair\n\n\n\nGreat News! As I am sure you are well aware\, COVID-19 (coronavirus) has significantly disrupted our career fair planning and operations. Luckily\, our partners at Career Fair Plus have a capability that will allow us to run the fair virtually so that you and our students can interact without the need for a physical presence at the career fair.\n\nHow it works:\n\n	We will create 1 schedule per recruiter in Career Fair Plus. The schedules will start at 1:00 pm and end at 4:00 pm with 10-15 minute time slots.\n	Students will pick a time slot through Career Fair Plus and book an appointment with you (or designated recruiter).\n	You (or designated recruiter) will either connect on a video meeting for a small fee or call the student at the beginning of the time slot and conduct the appointment over the phone. If you choose the video meeting option\, Career Fair Plus will provide you with a link and credentials in advance of the fair.\n\nOther Notes\n\n\n	Recruiters will download Career Fair Plus and sign in to see your schedule. Through the app\, recruiters can see each student and their profile that has booked on the recruiter's schedule.\n	Each recruiter will need their own schedule.\n	Get more information here:  https://youtu.be/sWBtuU0VPRw
X-ALT-DESC;FMTTYPE=text/html:Virtual&nbsp\; Career Fair<br />\n<br />\nGreat News! As I am sure you are well aware\, COVID-19 (coronavirus) has significantly disrupted our career fair planning and operations. Luckily\, our partners at Career Fair Plus have a capability that will allow us to run the fair virtually so that you and our students can interact without the need for a physical presence at the career fair.<br />\nHow it works:\n<ol>\n	<li>We will create 1 schedule per recruiter in Career Fair Plus. The schedules will start at&nbsp\;1:00 pm and end at&nbsp\;4:00 pm with 10-15 minute time slots.</li>\n	<li>Students will pick a time slot through Career Fair Plus and book an appointment with you (or designated recruiter).</li>\n	<li>You (or designated recruiter) will either connect on a video meeting for a small fee or call the student at the beginning of the time slot and conduct the appointment over the phone. If you choose the video meeting option\, Career Fair Plus will provide you with a link and credentials in advance of the fair.</li>\n</ol>\nOther Notes\n\n<ol>\n	<li>Recruiters will download Career Fair Plus and sign in to see your schedule. Through the app\, recruiters can see each student and their profile that has booked on the recruiter&rsquo\;s schedule.</li>\n	<li>Each recruiter will need their own schedule.</li>\n	<li>Get more information here:&nbsp\; <a href="https://fullerton-csm.symplicity.com/track/e7654dba21bf56c82635da4616083c92/2504924366/realurl=https:/youtu.be/sWBtuU0VPRw" target="_blank">https://youtu.be/sWBtuU0VPRw</a></li>\n</ol>\n
LOCATION:Virtual!
UID:e.887.24301
SEQUENCE:3
DTSTAMP:20260421T150300Z
URL:https://business.nocchamber.com/events/details/internship-career-expo-24301
END:VEVENT

END:VCALENDAR
