BEGIN:VCALENDAR
VERSION:2.0
PRODID:-//ChamberMaster//Event Calendar 2.0//EN
METHOD:PUBLISH
X-PUBLISHED-TTL:P3D
REFRESH-INTERVAL:P3D
CALSCALE:GREGORIAN
BEGIN:VEVENT
DTSTART:20170428T143000Z
DTEND:20170429T014500Z
X-MICROSOFT-CDO-ALLDAYEVENT:FALSE
SUMMARY:International Career Development Conference
DESCRIPTION:Over 1\,250 business professionals in the Anaheim-area are needed to judge and evaluate over 15\,000 high school students and 1\,500 college students that will be competing at this conference. All volunteer judges will receive complimentary parking at the conference site\, breakfast\, lunch and a gift of appreciation. Confirmation letters and detailed instructions will be distributed to all volunteer judges prior to the conference.\n\nIf you have any questions\, please contact Emily Rogers at emily_rogers@deca.org or 703-860-5000 ext. 221.\n\nShifts available are:\n\n\n	7:30 a.m. - 1:30 p.m.\n	7:30 a.m. - 4:00 p.m.\n	7:30 a.m. - 6:00 p.m.\n	12:30 p.m. - 6:45 p.m.\n\n\nClick here to register.
X-ALT-DESC;FMTTYPE=text/html:<p>Over 1\,250 business professionals in the Anaheim-area are needed to judge and evaluate over 15\,000 high school students and 1\,500 college students that will be competing at this conference. All volunteer judges will receive complimentary parking at the conference site\, breakfast\, lunch and a gift of appreciation. Confirmation letters and detailed instructions will be distributed to all volunteer judges prior to the conference.</p>\n\n<p>If you have any questions\, please contact Emily Rogers at <a>emily_rogers@deca.org</a> or 703-860-5000 ext. 221.</p>\n\n<p>Shifts available are:</p>\n\n<ul>\n	<li>7:30 a.m. - 1:30 p.m.</li>\n	<li>7:30 a.m. - 4:00 p.m.</li>\n	<li>7:30 a.m. - 6:00 p.m.</li>\n	<li>12:30 p.m. - 6:45 p.m.</li>\n</ul>\n\n<p><a href="https://docs.google.com/forms/d/e/1FAIpQLSf6rQVQBFzoC_6L7UtqQ9No4-h-HMknGQBmNRN3EXNRqMItyA/viewform?c=0&amp\;w=1">Click here to register.</a></p>\n
LOCATION:Anaheim Convention Center 800 W. Katella Ave. Anaheim\, CA 92802
UID:e.887.16020
SEQUENCE:3
DTSTAMP:20260421T163357Z
URL:https://business.nocchamber.com/events/details/international-career-development-conference-16020
END:VEVENT

END:VCALENDAR
