BEGIN:VCALENDAR
VERSION:2.0
PRODID:-//ChamberMaster//Event Calendar 2.0//EN
METHOD:PUBLISH
X-PUBLISHED-TTL:P3D
REFRESH-INTERVAL:P3D
CALSCALE:GREGORIAN
BEGIN:VEVENT
DTSTART:20170313T150000Z
DTEND:20170313T180000Z
X-MICROSOFT-CDO-ALLDAYEVENT:FALSE
SUMMARY:Import Compliance Training
DESCRIPTION:This is a six week training. Join us for an Import Compliance practitioner's course\, which walks participants through all aspects of import compliance. This hands-on workshop covers the nuts and bolts of importing\, including HTS classification\, demonstrating reasonable care\, Free-Trade Agreements\, C-TPAT\, how to implement your own compliance program\, and so much more.\n\n\n\nWhether you are new to your role of dealing with import compliance at your company\, or need a refresher\, this robust course will teach you the basics and keep you up to date on your responsibilities as an importer. Register here.
X-ALT-DESC;FMTTYPE=text/html:This is a&nbsp\;six week training. Join us for an Import Compliance practitioner&#39\;s course\, which walks participants through all aspects of import compliance. This hands-on workshop covers the nuts and bolts of importing\, including HTS classification\, demonstrating reasonable care\, Free-Trade Agreements\, C-TPAT\, how to implement your own compliance program\, and so much more.<br />\n<br />\nWhether you are new to your role of dealing with import compliance at your company\, or need a refresher\, this robust course will teach you the basics and keep you up to date on your responsibilities as an importer. Register <a href="http://orangecountycitd.com/events/event-registration/?action=evrplusegister&amp\;event_id=46&amp\;recurr=1488153600">here</a>.
LOCATION:Rancho Santiago Community College District 2323 N. Broadway #107 Santa Ana\, CA 92706
UID:e.887.15639
SEQUENCE:3
DTSTAMP:20260422T004424Z
URL:https://business.nocchamber.com/events/details/import-compliance-training-03-13-2017-15639
END:VEVENT

END:VCALENDAR
