BEGIN:VCALENDAR
VERSION:2.0
PRODID:-//ChamberMaster//Event Calendar 2.0//EN
METHOD:PUBLISH
X-PUBLISHED-TTL:P3D
REFRESH-INTERVAL:P3D
CALSCALE:GREGORIAN
BEGIN:VEVENT
DTSTART:20190222T180000Z
DTEND:20190222T200000Z
X-MICROSOFT-CDO-ALLDAYEVENT:FALSE
SUMMARY:Immigration Rights and Advocacy Lecture Series
DESCRIPTION:The NOCCCD Office of Diversity and Compliance is hosting a free lecture series on immigration and immigration rights and advocacy. Speakers include Shakeel Syed\, Monica Glicken\, and Julian Jefferies\, PhD.
X-ALT-DESC;FMTTYPE=text/html:<p>The NOCCCD Office of Diversity and Compliance is hosting a free&nbsp\;lecture series on immigration and immigration rights and advocacy. Speakers include Shakeel Syed\, Monica Glicken\, and Julian Jefferies\, PhD.</p>\n
LOCATION:Fullerton College\, College Center (Rooms 224/226/228) 321 East Chapman Ave. Fullerton\, CA 92832
UID:e.887.22995
SEQUENCE:3
DTSTAMP:20260422T091704Z
URL:https://business.nocchamber.com/events/details/immigration-rights-and-advocacy-lecture-series-22995
END:VEVENT

END:VCALENDAR
