BEGIN:VCALENDAR
VERSION:2.0
PRODID:-//ChamberMaster//Event Calendar 2.0//EN
METHOD:PUBLISH
X-PUBLISHED-TTL:P3D
REFRESH-INTERVAL:P3D
CALSCALE:GREGORIAN
BEGIN:VEVENT
DTSTART:20181227T200000Z
DTEND:20181227T210000Z
X-MICROSOFT-CDO-ALLDAYEVENT:FALSE
SUMMARY:IL Palco Italian Restaurant Ribbon Cutting
DESCRIPTION:Join us for a ribbon cutting ceremony to celebrate the grand opening of Il Palco Italian Restaurant and Pub at The Source OC  on Thursday\, December 27\, at 12:00 p.m.
X-ALT-DESC;FMTTYPE=text/html:<span style="color: rgb(68\, 68\, 68)\; font-family: arial\; font-size: 14px\;">Join us for a ribbon cutting ceremony to celebrate the grand opening of <a href="https://www.thesourceoc.com/copy-of-in-sit-coffee" target="_blank">Il Palco Italian Restaurant and Pub&nbsp\;</a>at <a href="https://www.thesourceoc.com/" target="_blank">The Source OC</a>&nbsp\;</span><span style="color: rgb(68\, 68\, 68)\; font-family: arial\; font-size: 14px\;">&nbsp\;on Thursday\, December 27\, at 12:00 p.m.</span>
LOCATION:6940 Beach Blvd. Buena Park\, CA 90621 Located on the 3rd Floor Parking: 4th floor of the parking structure will lead you into the 3rd floor of The Source.
UID:e.887.22908
SEQUENCE:3
DTSTAMP:20260422T115105Z
URL:https://business.nocchamber.com/events/details/il-palco-italian-restaurant-ribbon-cutting-22908
END:VEVENT

END:VCALENDAR
