BEGIN:VCALENDAR
VERSION:2.0
PRODID:-//ChamberMaster//Event Calendar 2.0//EN
METHOD:PUBLISH
X-PUBLISHED-TTL:P3D
REFRESH-INTERVAL:P3D
CALSCALE:GREGORIAN
BEGIN:VEVENT
DTSTART:20180413T010000Z
DTEND:20180413T040000Z
X-MICROSOFT-CDO-ALLDAYEVENT:FALSE
SUMMARY:IHACI - Air Distribution Module Part 4 - Downey
DESCRIPTION:Air Distribution Module: This four-part module starts with the practical fundamentals and theory behind basic air distribution systems and systematically moves through the process for Quality Installation (QI)\, Quality Maintenance (QM) and Quality Service (QS) of residential and light commercial air distribution systems as they apply to the California market (CAQI/CAQM/CAQS).  This seminar gives its participants the comprehensive skill sets required to properly design\, install\, commission\, maintain\, service\, diagnose and verify that the air distribution systems they are working on are safe\, reliable and operate at the highest capacity and energy efficiency possible.\n\n\n\nClass 4 - Advanced Theory and Techniques of Air Side Design and Installation\n\n\n\nPart 4 is the application of all the information reviewed and learned in the previous classes to provide Quality Service of air distribution systems as they apply to the California market (CAQS) including proper service methodology\, system diagnostic techniques\, verification of system performance\, the whole house concept\, interpreting reported customer problems\, overall system analysis and professional repair vs. replacement recommendations.
X-ALT-DESC;FMTTYPE=text/html:<div>\n<div>\n<div aria-hidden="false" data-bind="attr:{id: 'detailsModal' + evtId}" id="detailsModal44888" role="dialog" tabindex="-1">\n<div role="document">\n<div>\n<div>\n<div data-bind="html: noteBody">Air Distribution Module:&nbsp\;This four-part module starts with the practical fundamentals and theory behind basic air distribution systems and systematically moves through the process for Quality Installation (QI)\, Quality Maintenance (QM) and Quality Service (QS) of residential and light commercial air distribution systems as they apply to the California market (CAQI/CAQM/CAQS). &nbsp\;This seminar gives its participants the comprehensive skill sets required to properly design\, install\, commission\, maintain\, service\, diagnose and verify that the air distribution systems they are working on are safe\, reliable and operate at the highest capacity and energy efficiency possible.<br />\n<br />\nClass 4 - Advanced Theory and Techniques of Air Side Design and Installation<br />\n<br />\nPart 4 is the application of all the information reviewed and learned in the previous classes to provide Quality Service of air distribution systems as they apply to the California market (CAQS) including proper service methodology\, system diagnostic techniques\, verification of system performance\, the whole house concept\, interpreting reported customer problems\, overall system analysis and professional repair vs. replacement recommendations.</div>\n</div>\n</div>\n</div>\n</div>\n</div>\n</div>\n
LOCATION:SoCalGas Energy Resource Center 9240 Firestone Blvd. Downey\, CA 92401
UID:e.887.18215
SEQUENCE:3
DTSTAMP:20260421T230841Z
URL:https://business.nocchamber.com/events/details/ihaci-air-distribution-module-part-4-downey-18215
END:VEVENT

END:VCALENDAR
