BEGIN:VCALENDAR
VERSION:2.0
PRODID:-//ChamberMaster//Event Calendar 2.0//EN
METHOD:PUBLISH
X-PUBLISHED-TTL:P3D
REFRESH-INTERVAL:P3D
CALSCALE:GREGORIAN
BEGIN:VEVENT
DTSTART:20180405T010000Z
DTEND:20180405T040000Z
X-MICROSOFT-CDO-ALLDAYEVENT:FALSE
SUMMARY:IHACI - Air Distribution Module Part 1 - Downey
DESCRIPTION:Air Distribution Module: This four-part module starts with the practical fundamentals and theory behind basic air distribution systems and systematically moves through the process for Quality Installation (QI)\, Quality Maintenance (QM) and Quality Service (QS) of residential and light commercial air distribution systems as they apply to the California market (CAQI/CAQM/CAQS). This seminar gives its participants the comprehensive skill sets required to properly design\, install\, commission\, maintain\, service\, diagnose and verify that the air distribution systems they are working on are safe\, reliable and operate at the highest capacity and energy efficiency possible.\n\n\n\nClass 1 - Practical Fundamentals and Physical Properties of Air:  \n\n\n\nPart 1 will review the basic physical properties of air\, common definitions used in the trade\, psychrometrics\, the comfort index\, indoor air quality and the practical fundamentals and theories used in all air distribution systems.\n\n\n\n*Course qualifies for BOC maintenance of certification points toward BOC Level I or Level II credential. For more info: www.theboc.info \n\n\n\n Note: Attendees must register for each class separately.
X-ALT-DESC;FMTTYPE=text/html:<div>\n<div>\n<div aria-hidden="false" data-bind="attr:{id: 'detailsModal' + evtId}" id="detailsModal44882" role="dialog" tabindex="-1">\n<div role="document">\n<div>\n<div>\n<div data-bind="html: noteBody">Air Distribution Module:&nbsp\;This four-part module starts with the practical fundamentals and theory behind basic air distribution systems and systematically moves through the process for Quality Installation (QI)\, Quality Maintenance (QM) and Quality Service (QS) of residential and light commercial air distribution systems as they apply to the California market (CAQI/CAQM/CAQS). This seminar gives its participants the comprehensive skill sets required to properly design\, install\, commission\, maintain\, service\, diagnose and verify that the air distribution systems they are working on are safe\, reliable and operate at the highest capacity and energy efficiency possible.<br />\n<br />\nClass 1 - Practical Fundamentals and Physical Properties of Air: &nbsp\;<br />\n<br />\nPart 1 will review the basic physical properties of air\, common definitions used in the trade\, psychrometrics\, the comfort index\, indoor air quality and the practical fundamentals and theories used in all air distribution systems.<br />\n<br />\n*Course qualifies for BOC maintenance of certification points toward BOC Level I or Level II credential. For more info:&nbsp\;<a href="http://www.theboc.info/" target="_blank">www.theboc.info&nbsp\;</a><br />\n<br />\n&nbsp\;Note: Attendees must register for each class separately.</div>\n</div>\n</div>\n</div>\n</div>\n</div>\n</div>\n
LOCATION:SoCalGas Energy Resource Center 9240 Firestone Blvd. Downey\, CA 92401
UID:e.887.18212
SEQUENCE:3
DTSTAMP:20260422T004515Z
URL:https://business.nocchamber.com/events/details/ihaci-air-distribution-module-part-1-downey-18212
END:VEVENT

END:VCALENDAR
