BEGIN:VCALENDAR
VERSION:2.0
PRODID:-//ChamberMaster//Event Calendar 2.0//EN
METHOD:PUBLISH
X-PUBLISHED-TTL:P3D
REFRESH-INTERVAL:P3D
CALSCALE:GREGORIAN
BEGIN:VEVENT
DTSTART:20191023T030000Z
DTEND:20191023T050000Z
X-MICROSOFT-CDO-ALLDAYEVENT:FALSE
SUMMARY:Hymns of a Fugitive Spirit
DESCRIPTION:This original\, devised\, ensemble-driven outdoor theater piece will be heavily influenced by the ancient Celtic tradition of Samhain and be presented in the Wisteria Arbor. It's a ghost story that tells the tale of a lost spirit trying to find its way home.
X-ALT-DESC;FMTTYPE=text/html:This original\, devised\, ensemble-driven outdoor theater piece will be heavily influenced by the ancient Celtic tradition of Samhain and be presented in the Wisteria Arbor. It&#39\;s a ghost story that tells the tale of a lost spirit trying to find its way home.
LOCATION:Fullerton Arboretum 1900 Associated Rd. Fullerton\, CA\, 92831
UID:e.887.23775
SEQUENCE:3
DTSTAMP:20260421T231147Z
URL:https://business.nocchamber.com/events/details/hymns-of-a-fugitive-spirit-23775
END:VEVENT

END:VCALENDAR
