BEGIN:VCALENDAR
VERSION:2.0
PRODID:-//ChamberMaster//Event Calendar 2.0//EN
METHOD:PUBLISH
X-PUBLISHED-TTL:P3D
REFRESH-INTERVAL:P3D
CALSCALE:GREGORIAN
BEGIN:VEVENT
DTSTART:20190221T163000Z
DTEND:20190221T180000Z
X-MICROSOFT-CDO-ALLDAYEVENT:FALSE
SUMMARY:Human Trafficking Awareness\, Prevention & Response Training
DESCRIPTION:NOCC in partnership with Crittenton presents Human Trafficking Awareness\, Prevention & Response Training on Thursday\, February 21\, 2019 from 8:30 a.m. to 10:00 a.m. at the North Orange County Chamber Offices.\n\n\n\nTraining will be led by Wendy Mielke\, LMFT.\n\nWendy Mielke\, currently a Clinical Director for Crittenton Services\, is a Certified CSEC* trainer and Therapist with years of experience working with trafficked youth\, providing youth prevention training\, and presenting awareness\, prevention\, & response training to the community.\n\n\n\nCalifornia is taking a stand against Human Trafficking with the recent adoption of two new bills signed into law\, AB 2034 & SB 970\, that require training on human trafficking for hotel\, motel\, rail\, & bus employees. The North Orange County Chamber has partnered with member organization Crittenton Services for Children & Families to provide this training to the North Orange County hotel\, motel\, rail\, & bus community.
X-ALT-DESC;FMTTYPE=text/html:NOCC in partnership with Crittenton presents Human Trafficking Awareness\, Prevention &amp\; Response Training on Thursday\, February 21\, 2019 from 8:30 a.m. to 10:00 a.m. at the North Orange County Chamber Offices.<br />\n<br />\nTraining will be led by Wendy Mielke\, LMFT.<br />\nWendy Mielke\, currently a Clinical Director for Crittenton Services\, is a Certified CSEC* trainer and Therapist with years of experience working with trafficked youth\, providing youth prevention training\, and presenting awareness\, prevention\, &amp\; response training to the community.<br />\n<br />\nCalifornia is taking a stand against Human Trafficking with the recent adoption of two new bills signed into law\, AB 2034 &amp\; SB 970\, that require training on human trafficking for hotel\, motel\, rail\, &amp\; bus employees. The North Orange County Chamber has partnered with member organization Crittenton Services for Children &amp\; Families to provide this training to the North Orange County hotel\, motel\, rail\, &amp\; bus community.
LOCATION:North Orange County Chamber Offices 444 N Harbor Blvd.\, Ste 200 Fullerton\, CA 92836
UID:e.887.22983
SEQUENCE:3
DTSTAMP:20260422T090927Z
URL:https://business.nocchamber.com/events/details/human-trafficking-awareness-prevention-response-training-22983
END:VEVENT

END:VCALENDAR
