BEGIN:VCALENDAR
VERSION:2.0
PRODID:-//ChamberMaster//Event Calendar 2.0//EN
METHOD:PUBLISH
X-PUBLISHED-TTL:P3D
REFRESH-INTERVAL:P3D
CALSCALE:GREGORIAN
BEGIN:VEVENT
DTSTART:20180314T180000Z
DTEND:20180314T190000Z
X-MICROSOFT-CDO-ALLDAYEVENT:FALSE
SUMMARY:HUBZone Protests and Appeals
DESCRIPTION:The U.S. Small Business Administration's (SBA) Historically Underutilized Business (HUB) Zone program helps small businesses in urban and rural communities gain preferential access to government contracting opportunities. If your business is located in an area where business development and growth has been fairly limited\, you may qualify.\n\nThe webinars are designed to help small businesses get and maintain their HUBZone certification\, survive HUBZone status protests to contracts\, maintain good recordkeeping to ensure compliance in the program\, locate HUBZones\, and compete for HUBZone contracts.\n\nTo get the most out of the webinars\, review the HUBZone website and the frequently asked questions. All webinars will be archived on SBA's YouTube channel.\n\n\n\nDuring this webinar\, you will learn the process for filing HUBZone protests and appeals\; and for responding to protest notices.  Link to the webinar will be announced by mid-February.
X-ALT-DESC;FMTTYPE=text/html:<p class="gdp" style="margin-top:0in\;margin-right:0in\;margin-bottom:11.25pt\;&#10\;margin-left:0in"><span style="font-size:10.5pt\;font-family:&quot\;Arial&quot\;\,&quot\;sans-serif&quot\;\;&#10\;color:black">The U.S. Small Business Administration&rsquo\;s (SBA) Historically Underutilized Business (HUB) Zone program helps small businesses in urban and rural communities gain preferential access to government contracting opportunities. If your business is located in an area where business development and growth has been fairly limited\, you may qualify.<o:p></o:p></span></p>\n\n<p class="gdp" style="margin-top:0in\;margin-right:0in\;margin-bottom:11.25pt\;&#10\;margin-left:0in"><span style="font-size:10.5pt\;font-family:&quot\;Arial&quot\;\,&quot\;sans-serif&quot\;\;&#10\;color:black">The webinars are designed to help small businesses get and maintain their HUBZone certification\, survive HUBZone status protests to contracts\, maintain good recordkeeping to ensure compliance in the program\, locate HUBZones\, and compete for HUBZone contracts.<o:p></o:p></span></p>\n\n<p class="gdp" style="margin-top:0in\;margin-right:0in\;margin-bottom:11.25pt\;&#10\;margin-left:0in"><span style="font-size:10.5pt\;font-family:&quot\;Arial&quot\;\,&quot\;sans-serif&quot\;\;&#10\;color:black">To get the most out of the webinars\, review the&nbsp\;<a href="http://links.govdelivery.com:80/track?type=click&amp\;enid=ZWFzPTEmbWFpbGluZ2lkPTIwMTgwMTMxLjg0NTc5OTMxJm1lc3NhZ2VpZD1NREItUFJELUJVTC0yMDE4MDEzMS44NDU3OTkzMSZkYXRhYmFzZWlkPTEwMDEmc2VyaWFsPTE3MTcwNjc2JmVtYWlsaWQ9dGhhcnZleUBmdWxsZXJ0b25jaGFtYmVyLmNvbSZ1c2VyaWQ9dGhhcnZleUBmdWxsZXJ0b25jaGFtYmVyLmNvbSZmbD0mZXh0cmE9TXVsdGl2YXJpYXRlSWQ9JiYm&amp\;&amp\;&amp\;101&amp\;&amp\;&amp\;http://www.sba.gov/hubzone?utm_medium=email&amp\;utm_source=govdelivery"><span style="color:#0B97DD">HUBZone website</span></a>&nbsp\;and the&nbsp\;<a href="http://links.govdelivery.com:80/track?type=click&amp\;enid=ZWFzPTEmbWFpbGluZ2lkPTIwMTgwMTMxLjg0NTc5OTMxJm1lc3NhZ2VpZD1NREItUFJELUJVTC0yMDE4MDEzMS44NDU3OTkzMSZkYXRhYmFzZWlkPTEwMDEmc2VyaWFsPTE3MTcwNjc2JmVtYWlsaWQ9dGhhcnZleUBmdWxsZXJ0b25jaGFtYmVyLmNvbSZ1c2VyaWQ9dGhhcnZleUBmdWxsZXJ0b25jaGFtYmVyLmNvbSZmbD0mZXh0cmE9TXVsdGl2YXJpYXRlSWQ9JiYm&amp\;&amp\;&amp\;102&amp\;&amp\;&amp\;http://www.sba.gov/content/frequently-asked-questions?utm_medium=email&amp\;utm_source=govdelivery"><span style="color:#0B97DD">frequently asked questions</span></a>. All webinars will be archived on<span style="color:#0B97DD"><a href="http://links.govdelivery.com:80/track?type=click&amp\;enid=ZWFzPTEmbWFpbGluZ2lkPTIwMTgwMTMxLjg0NTc5OTMxJm1lc3NhZ2VpZD1NREItUFJELUJVTC0yMDE4MDEzMS44NDU3OTkzMSZkYXRhYmFzZWlkPTEwMDEmc2VyaWFsPTE3MTcwNjc2JmVtYWlsaWQ9dGhhcnZleUBmdWxsZXJ0b25jaGFtYmVyLmNvbSZ1c2VyaWQ9dGhhcnZleUBmdWxsZXJ0b25jaGFtYmVyLmNvbSZmbD0mZXh0cmE9TXVsdGl2YXJpYXRlSWQ9JiYm&amp\;&amp\;&amp\;103&amp\;&amp\;&amp\;http://www.youtube.com/sba?utm_medium=email&amp\;utm_source=govdelivery">&nbsp\;SBA&rsquo\;s YouTube channel.</a></span></span><br />\n<br />\n<span style="color:black\;"><span style="font-family:arial\,sans-serif\;"><span style="font-size:10.5pt\;">During this webinar\, you will learn the process for filing HUBZone protests and appeals\; and for responding to protest notices.&nbsp\;&nbsp\;Link to the webinar will be announced by mid-February.</span></span></span><br />\n&nbsp\;</p>\n
LOCATION:Link to the webinar will be announced by mid-February.
UID:e.887.17589
SEQUENCE:3
DTSTAMP:20260422T002533Z
URL:https://business.nocchamber.com/events/details/hubzone-protests-and-appeals-17589
END:VEVENT

END:VCALENDAR
