BEGIN:VCALENDAR
VERSION:2.0
PRODID:-//ChamberMaster//Event Calendar 2.0//EN
METHOD:PUBLISH
X-PUBLISHED-TTL:P3D
REFRESH-INTERVAL:P3D
CALSCALE:GREGORIAN
BEGIN:VEVENT
DTSTART:20190507T160000Z
DTEND:20190507T190000Z
X-MICROSOFT-CDO-ALLDAYEVENT:FALSE
SUMMARY:HR Summit 2019 - New Laws and Trends Workshop - Presented by SCORE
DESCRIPTION:This seminar will review all the new employment laws and regulations of 2019 that impact all California employers as well as workplace trends and hot topics. Audrianne Adams Lee\, President and Founder of HR NETwork Inc\, will be speaking.
X-ALT-DESC;FMTTYPE=text/html:This seminar will review&nbsp\;all the new employment laws and regulations of 2019 that impact all California employers as well as workplace trends and hot topics.&nbsp\;Audrianne Adams Lee\, President and Founder of HR NETwork Inc\, will be speaking.&nbsp\;
LOCATION:National University (VM Z. Smith) 3390 Harbor Blvd. Costa Mesa\, CA 92626
UID:e.887.23272
SEQUENCE:3
DTSTAMP:20260422T065508Z
URL:https://business.nocchamber.com/events/details/hr-summit-2019-new-laws-and-trends-workshop-presented-by-score-23272
END:VEVENT

END:VCALENDAR
