BEGIN:VCALENDAR
VERSION:2.0
PRODID:-//ChamberMaster//Event Calendar 2.0//EN
METHOD:PUBLISH
X-PUBLISHED-TTL:P3D
REFRESH-INTERVAL:P3D
CALSCALE:GREGORIAN
BEGIN:VEVENT
DTSTART:20181207T170000Z
DTEND:20181207T190000Z
X-MICROSOFT-CDO-ALLDAYEVENT:FALSE
SUMMARY:HR Prescriptions - 2019 Legal Update
DESCRIPTION:California continues to create legislation for business owners and more laws are coming for January 1\, 2019.  Don't miss HR Prescriptions 2019 HR Legal Update to learn about changes mandated for your business\, even if you only have a few employees.\n\n\n\nEric Sohlgren\, Partner with Payne & Fears\, LLC\, will present along with Terri Olson and Maggie Hattan. Seating is limited\, so please RSVP as soon as possible to terri@hrprescriptions.net.
X-ALT-DESC;FMTTYPE=text/html:California continues to create legislation for&nbsp\;business owners and more laws&nbsp\;are coming for&nbsp\;January 1\, 2019.&nbsp\;&nbsp\;Don&#39\;t miss <a href="http://hrprescriptions.net/" target="_blank">HR Prescriptions</a> <strong>2019 HR Legal Update </strong>to learn about changes mandated for your business\, even if you only have a few employees.<br />\n<br />\nEric Sohlgren\, Partner with Payne &amp\; Fears\, LLC\, will present along with Terri Olson and Maggie Hattan.&nbsp\;Seating is limited\, so please RSVP as soon as possible to <a href="mailto:terri@hrprescriptions.net" target="_blank">terri@hrprescriptions.net.</a>&nbsp\;&nbsp\;
LOCATION:North Orange County Chamber Conference Room 444 N. Harbor Blvd.\, Suite 200 Fullerton\, CA 92832
UID:e.887.22803
SEQUENCE:3
DTSTAMP:20260422T114235Z
URL:https://business.nocchamber.com/events/details/hr-prescriptions-2019-legal-update-22803
END:VEVENT

END:VCALENDAR
