BEGIN:VCALENDAR
VERSION:2.0
PRODID:-//ChamberMaster//Event Calendar 2.0//EN
METHOD:PUBLISH
X-PUBLISHED-TTL:P3D
REFRESH-INTERVAL:P3D
CALSCALE:GREGORIAN
BEGIN:VEVENT
DTSTART:20190410T003000Z
DTEND:20190410T033000Z
X-MICROSOFT-CDO-ALLDAYEVENT:FALSE
SUMMARY:How To Start A Successful Business & Avoid The Pitfalls
DESCRIPTION:Start-Ups fail at a very high rate. There is a lot more to starting a business then getting a name\, license and location. Follow these steps and it will help to insure success. Learn what to focus on and how to overcome common obstacles. Mistakes cost money and can bury your business early on.  Step by Step guideline.\n			\n\n			\n			\n			-Basic Startup Requirements\n\n			-Startup or Buy Existing\n\n			-Creating a Workable Plan\n\n			-Financing & Projections\n\n			-Legal Forms of Organization\n\n			-Hiring & Training
X-ALT-DESC;FMTTYPE=text/html:<table border="0" cellpadding="0">\n	<tbody>\n		<tr>\n			<td>\n			<div>\n			<p>Start-Ups fail at a very high rate. There is a lot more to starting a business then getting a name\, license and location. Follow these steps and it will help to insure success. Learn what to focus on and how to overcome common obstacles. Mistakes cost money and can bury your business early on.&nbsp\; Step by Step guideline.</p>\n			</div>\n\n			<div>\n			<div>\n			<p>-Basic Startup Requirements<br />\n			-Startup or Buy Existing<br />\n			-Creating a Workable Plan<br />\n			-Financing &amp\; Projections<br />\n			-Legal Forms of Organization<br />\n			-Hiring &amp\; Training</p>\n			</div>\n\n			<div>\n			<p>&nbsp\;</p>\n			</div>\n			</div>\n			</td>\n		</tr>\n	</tbody>\n</table>\n
LOCATION:La Habra Chamber of Commerce (VM Byun) 321 La Habra Blvd\, La Habra\, CA 90631
UID:e.887.23114
SEQUENCE:3
DTSTAMP:20260422T065351Z
URL:https://business.nocchamber.com/events/details/how-to-start-a-successful-business-avoid-the-pitfalls-23114
END:VEVENT

END:VCALENDAR
