BEGIN:VCALENDAR
VERSION:2.0
PRODID:-//ChamberMaster//Event Calendar 2.0//EN
METHOD:PUBLISH
X-PUBLISHED-TTL:P3D
REFRESH-INTERVAL:P3D
CALSCALE:GREGORIAN
BEGIN:VEVENT
DTSTART:20180327T010000Z
DTEND:20180327T034500Z
X-MICROSOFT-CDO-ALLDAYEVENT:FALSE
SUMMARY:How to Start a Successful Business & Avoid The Pitfalls
DESCRIPTION:Start-Ups fail at a very high rate. There is a lot more to starting your business then getting a name\, license and location. Follow these steps and it will help to insure success.  Through this workshop you will learn all the key elements from: \n\n\n\n* Basic Startup Requirements\n\n* Startup or Buy Existing\n\n* Creating a Plan\n\n* Financing\n\n* Projections (Sales & Expenses)\n\n* Legal Forms of Organization\n\n* Pricing\n\n* Sales Planning\n\n* Marketing \n\n* Hiring\n\n* Employee Manual\n\n* Managing Yourself\n\n* Lease Negotiations\n\n* Franchise\n\n\n\nBarry McKinley of SCORE presents this workshop. He has operated 10 different companies in 5 different industries (Medical\, Surf\, Motorsports\, Insurance and Personnel).  He either started or purchased each of these businesses.  He later sold each of the companies to investors\, employees\, competitors including a Fortune 1000 Company. In his career he has interviewed and hired 1000's of employees for his many different companies. With this much experience he has made every hiring mistake that can be made (some twice).  As a SCORE Member he has participated in over 2\,000 face to face sessions with business owners and twice that number via cyber counseling.\n\n\n\n(Registration/Check-in 5:30 to 6:00 PM)
X-ALT-DESC;FMTTYPE=text/html:Start-Ups fail at a very high rate. There is a lot more to starting your business then getting a name\, license and location. Follow these steps and it will help to insure success.&nbsp\; Through this workshop you will learn all the key elements from:&nbsp\;<br />\n<br />\n* Basic Startup Requirements<br />\n* Startup or Buy Existing<br />\n* Creating a Plan<br />\n* Financing<br />\n* Projections (Sales &amp\; Expenses)<br />\n* Legal Forms of Organization<br />\n* Pricing<br />\n* Sales Planning<br />\n* Marketing&nbsp\;<br />\n* Hiring<br />\n* Employee Manual<br />\n* Managing Yourself<br />\n* Lease Negotiations<br />\n* Franchise<br />\n<br />\nBarry McKinley of SCORE presents this workshop. He has operated 10 different companies in 5 different industries (Medical\, Surf\, Motorsports\, Insurance and Personnel).&nbsp\; He either started or purchased each of these businesses.&nbsp\; He later sold each of the companies to investors\, employees\, competitors including a Fortune 1000 Company. In his career he has interviewed and hired 1000&#39\;s of employees for his many different companies. With this much experience he has made every hiring mistake that can be made (some twice).&nbsp\; As a SCORE Member he has participated in over 2\,000 face to face sessions with business owners and twice that number via cyber counseling.<br />\n<br />\n(Registration/Check-in 5:30 to 6:00 PM)
LOCATION:Orange Public Library (VM Greenfield) 407 E. Chapman Ave. Orange\, CA 92866
UID:e.887.21249
SEQUENCE:3
DTSTAMP:20260422T020058Z
URL:https://business.nocchamber.com/events/details/how-to-start-a-successful-business-avoid-the-pitfalls-21249
END:VEVENT

END:VCALENDAR
