BEGIN:VCALENDAR
VERSION:2.0
PRODID:-//ChamberMaster//Event Calendar 2.0//EN
METHOD:PUBLISH
X-PUBLISHED-TTL:P3D
REFRESH-INTERVAL:P3D
CALSCALE:GREGORIAN
BEGIN:VEVENT
DTSTART:20170413T143000Z
DTEND:20170413T163000Z
X-MICROSOFT-CDO-ALLDAYEVENT:FALSE
SUMMARY:How to Sell to the Government of Canada Briefing
DESCRIPTION:Together with MAPLE - The Canadian-U.S. Business Council of Southern California\, we invite you to join us for a morning roundtable discussion on how to sell goods & services to the government of Canada.The Government of Canada (GOC) is one of the largest purchasing entities in the world\, buying in excess of US$20 billion worth of goods and services every year from thousands of suppliers.\n\n  Learn how your organization can sell to the GOC.\n\n  Learn about Canadian Government procurement opportunities directly from the experts.\n\n  Understand how the Government Electronic Tendering Service works and how to best utilize this tool\n\n  Find out who is currently competing for GOC contracts.\n\n  Meet your U.S. Commercial Service experts in Canada to assist you in selling to the GOC.
X-ALT-DESC;FMTTYPE=text/html:<p class="DefaultParagraph-1">Together with MAPLE - The Canadian-U.S. Business Council of Southern California\, we invite you to join us for a morning roundtable discussion on how to sell goods &amp\; services to the government of Canada.The Government of Canada (GOC) is one of the largest purchasing entities in the world\, buying in excess of US$20 billion worth of goods and services every year from thousands of suppliers.</p>\n\n<p class="DefaultParagraph-1">&ndash\; Learn how your organization can sell to the GOC.</p>\n\n<p class="DefaultParagraph-1">&ndash\; Learn about Canadian Government procurement opportunities directly from the experts.</p>\n\n<p class="DefaultParagraph-1">&ndash\; Understand how the Government Electronic Tendering Service works and how to best utilize this tool</p>\n\n<p class="DefaultParagraph-1">&ndash\; Find out who is currently competing for GOC contracts.</p>\n\n<p class="DefaultParagraph-1">&ndash\; Meet your U.S. Commercial Service experts in Canada to assist you in selling to the GOC.</p>\n
LOCATION:Irvine Chamber 36 Executive Park #100 Irvine\, CA 92614
UID:e.887.16032
SEQUENCE:3
DTSTAMP:20260421T121754Z
URL:https://business.nocchamber.com/events/details/how-to-sell-to-the-government-of-canada-briefing-16032
END:VEVENT

END:VCALENDAR
