BEGIN:VCALENDAR
VERSION:2.0
PRODID:-//ChamberMaster//Event Calendar 2.0//EN
METHOD:PUBLISH
X-PUBLISHED-TTL:P3D
REFRESH-INTERVAL:P3D
CALSCALE:GREGORIAN
BEGIN:VEVENT
DTSTART:20200707T220000Z
DTEND:20200707T230000Z
X-MICROSOFT-CDO-ALLDAYEVENT:FALSE
SUMMARY:How to Reopen Your Restaurant Safely Webinar
DESCRIPTION:Join the OC Health Care Agency and Orange County Business Council for a discussion around the recent Health Officer Order and what it means for your business.\n\n\n\n Register Here
X-ALT-DESC;FMTTYPE=text/html:<span style="font-family: Arial\; font-size: 14.4px\;">Join the OC Health Care Agency and Orange County Business Council for a discussion around the recent Health Officer Order and what it means for your business.<br />\n<br />\n<a href="https://us02web.zoom.us/webinar/register/WN_QXzN8-S-S7-kmVPI9wpIqQ" target="_blank">&nbsp\;Register Here</a></span>
LOCATION:Online
UID:e.887.24440
SEQUENCE:3
DTSTAMP:20260421T120137Z
URL:https://business.nocchamber.com/events/details/how-to-reopen-your-restaurant-safely-webinar-24440
END:VEVENT

END:VCALENDAR
