BEGIN:VCALENDAR
VERSION:2.0
PRODID:-//ChamberMaster//Event Calendar 2.0//EN
METHOD:PUBLISH
X-PUBLISHED-TTL:P3D
REFRESH-INTERVAL:P3D
CALSCALE:GREGORIAN
BEGIN:VEVENT
DTSTART:20190228T020000Z
DTEND:20190228T033000Z
X-MICROSOFT-CDO-ALLDAYEVENT:FALSE
SUMMARY:How To Launch Your Business The CSUF Startup Incubator Way
DESCRIPTION:The CSUF Startup Incubator was founded with one goal in mind: Help startup founders go from concept to launch.\n\nSince its founding over four years ago\, the CSUF Startup Incubator has helped nearly fifty startup founders learn and implement time-tested and proven strategies for launching just about any business. At this talk you too can learn what these strategies are and get a sense of what it is like to be accepted as a resident for six months at the CSUF Startup Incubator.\n\nPhillip Stinis\, the Co-founder/Entrepreneur in Residence/Startup Enthusiast of the CSUF Startup Incubator\, will host this talk\, and go over the main strategies that the CSUF Startup Incubator uses with its residents.\n\nDinner will be served at this event.
X-ALT-DESC;FMTTYPE=text/html:<p>The CSUF Startup Incubator was founded with one goal in mind: Help startup founders go from concept to launch.</p>\n\n<p>Since its founding over four years ago\, the CSUF Startup Incubator has helped nearly fifty startup founders learn and implement time-tested and proven strategies for launching just about any business. At this talk you too can learn what these strategies are and get a sense of what it is like to be accepted as a resident for six months at the CSUF Startup Incubator.</p>\n\n<p>Phillip Stinis\, the Co-founder/Entrepreneur in Residence/Startup Enthusiast of the CSUF Startup Incubator\, will host this talk\, and go over the main strategies that the CSUF Startup Incubator uses with its residents.</p>\n\n<p>Dinner will be served at this event.</p>\n
LOCATION:Cal State Fullerton - Irvine Campus CSUF Startup Incubator 1 Banting Irvine\, CA 92618
UID:e.887.22992
SEQUENCE:3
DTSTAMP:20260422T091643Z
URL:https://business.nocchamber.com/events/details/how-to-launch-your-business-the-csuf-startup-incubator-way-22992
END:VEVENT

END:VCALENDAR
