BEGIN:VCALENDAR
VERSION:2.0
PRODID:-//ChamberMaster//Event Calendar 2.0//EN
METHOD:PUBLISH
X-PUBLISHED-TTL:P3D
REFRESH-INTERVAL:P3D
CALSCALE:GREGORIAN
BEGIN:VEVENT
DTSTART:20190819T173000Z
DTEND:20190819T203000Z
X-MICROSOFT-CDO-ALLDAYEVENT:FALSE
SUMMARY:How To Create Your Elevator Pitch & More
DESCRIPTION:You have 15 seconds to get the listeners attention. This is true if you are selling to potential clients\, investors\, lenders or existing customers. Learn the tricks to creating your opening statements and creating excitement. This workshop will help you to create your exceptional and unique attention getting Elevator Pitch. Open new doors and grow your business.\n\n * How To Get Attention \n\n* Get Potential Clients Asking Questions\n\n* Variety Of Opening Statements\n\n* Learn How The Pros Do It\n\n* Help In Developing Your Pitch\n\n* Learn To Develop Confidence\n\nBarry McKinley of SCORE has started\, owned & operated 10 different companies in 5 different industries. He sold each of the companies to investors\, employees and competitors including Fortune 1000 companies. With his vast experience he has been involved in all segments of business\, from hiring\, financing to sales and promotions\, and has counseled over 2\,100 SCORE clients.
X-ALT-DESC;FMTTYPE=text/html:<p>You have 15 seconds to get the listeners attention. This is true if you are selling to potential clients\, investors\, lenders or existing customers. Learn the tricks to creating your opening statements and creating excitement. This workshop will help you to create your exceptional and unique attention getting Elevator Pitch. Open new doors and grow your business.</p>\n\n<p>&nbsp\;* How To Get Attention&nbsp\;<br />\n* Get Potential Clients Asking Questions<br />\n* Variety Of Opening Statements<br />\n* Learn How The Pros Do It<br />\n* Help In Developing Your Pitch<br />\n* Learn To Develop Confidence</p>\n\n<p>Barry McKinley of SCORE&nbsp\;has started\, owned &amp\; operated 10 different companies in 5 different industries. He sold each of the companies to investors\, employees and competitors including Fortune 1000 companies. With his vast experience he has been involved in all segments of business\, from hiring\, financing to sales and promotions\, and has counseled over 2\,100 SCORE clients.</p>\n
LOCATION:Webster University (VM Wooten) 32 Discovery\, #250 Irvine\, CA 92618
UID:e.887.23667
SEQUENCE:3
DTSTAMP:20260422T015147Z
URL:https://business.nocchamber.com/events/details/how-to-create-your-elevator-pitch-more-23667
END:VEVENT

END:VCALENDAR
