BEGIN:VCALENDAR
VERSION:2.0
PRODID:-//ChamberMaster//Event Calendar 2.0//EN
METHOD:PUBLISH
X-PUBLISHED-TTL:P3D
REFRESH-INTERVAL:P3D
CALSCALE:GREGORIAN
BEGIN:VEVENT
DTSTART:20170727T010000Z
DTEND:20170728T030000Z
X-MICROSOFT-CDO-ALLDAYEVENT:FALSE
SUMMARY:How to Charge Higher Prices & Get Your Customers to Thank You for it
DESCRIPTION:Join Scott Sorrell as he discusses 21 ways to sell on value\, not price\, discover what prospects are really willing to pay\, identifying all the money on the table and much more. He invites Entrepreneurs\, Sales reps\, Service providers\, Businesses tired clients and those looking to boost their profits to join him in his workshop on Wednesday\, July 26\, 2017.
X-ALT-DESC;FMTTYPE=text/html:Join Scott Sorrell&nbsp\;as he discusses 21 ways to sell on value\, not price\, discover what prospects are really willing to pay\, identifying all the money on the table and much more. He invites Entrepreneurs\, Sales reps\, Service providers\, Businesses tired clients and those looking to boost their profits to join him in his workshop on Wednesday\, July 26\, 2017.
LOCATION:Cal State Fullerton - Irvine Campus 3 Banting Room: 123/124 Irvine\, CA 92618
UID:e.887.16225
SEQUENCE:3
DTSTAMP:20260421T003530Z
URL:https://business.nocchamber.com/events/details/how-to-charge-higher-prices-get-your-customers-to-thank-you-for-it-16225
END:VEVENT

END:VCALENDAR
