BEGIN:VCALENDAR
VERSION:2.0
PRODID:-//ChamberMaster//Event Calendar 2.0//EN
METHOD:PUBLISH
X-PUBLISHED-TTL:P3D
REFRESH-INTERVAL:P3D
CALSCALE:GREGORIAN
BEGIN:VEVENT
DTSTART:20170626T230000Z
DTEND:20170627T020000Z
X-MICROSOFT-CDO-ALLDAYEVENT:FALSE
SUMMARY:How to Become a Better Internet Marketer
DESCRIPTION:Join Jason Khoo as he discusses what it takes to being successful at marketing your  business online\, this office hour session help help entrepreneurs with any questions they have about internet marketing and search engine optimization.
X-ALT-DESC;FMTTYPE=text/html:Join Jason Khoo as he discusses what it takes to being successful at marketing your &nbsp\;business online\, this office hour session help help entrepreneurs with any questions they have about internet marketing and search engine optimization.
LOCATION:CSUF Startup Incubator 120 S Bradford Ave (Back of Building) Placentia\, CA 92870
UID:e.887.16224
SEQUENCE:3
DTSTAMP:20260421T034035Z
URL:https://business.nocchamber.com/events/details/how-to-become-a-better-internet-marketer-16224
END:VEVENT

END:VCALENDAR
