BEGIN:VCALENDAR
VERSION:2.0
PRODID:-//ChamberMaster//Event Calendar 2.0//EN
METHOD:PUBLISH
X-PUBLISHED-TTL:P3D
REFRESH-INTERVAL:P3D
CALSCALE:GREGORIAN
BEGIN:VEVENT
DTSTART:20180820T193000Z
DTEND:20180820T200000Z
X-MICROSOFT-CDO-ALLDAYEVENT:FALSE
SUMMARY:Homelessness Subcommittee Meeting
DESCRIPTION:Homelessness Subcommittee meeting is on August 20\, 2018 from 12:30 p.m. - 1:30 p.m. at location First Lutheran Church (215 N Lemon St).\n\n\n\nIf you are interested in joining and how to be involved\, contact Jason Philips at jason@sojournerschurch.org  \n\n\n\nGet involved in the collaboration efforts in the city by attending a subcommittee. Identified areas include Education\, Youth Empowerment\, Homelessness\, and Health & Wellness. All subcommittees are open to the public that are interested in working collectively on goals on the different areas.
X-ALT-DESC;FMTTYPE=text/html:<strong>Homelessness Subcommittee </strong>meeting is on August 20\, 2018 from 12:30 p.m. - 1:30 p.m. at location First Lutheran Church (215 N Lemon St).<br />\n<br />\nIf you are interested in joining and how to be involved\, contact Jason Philips at <a href="mailto:jason@sojournerschurch.org">jason@sojournerschurch.org</a> &nbsp\;<br />\n<br />\nGet involved in the collaboration efforts in the city by attending a subcommittee. Identified areas include Education\, Youth Empowerment\, Homelessness\, and Health &amp\; Wellness. All subcommittees are open to the public that are interested in working collectively on goals on the different areas.
LOCATION:First Lutheran Church 215 N. Lemon St. Fullerton\, CA 92832
UID:e.887.22541
SEQUENCE:3
DTSTAMP:20260422T091333Z
URL:https://business.nocchamber.com/events/details/homelessness-subcommittee-meeting-22541
END:VEVENT

END:VCALENDAR
