BEGIN:VCALENDAR
VERSION:2.0
PRODID:-//ChamberMaster//Event Calendar 2.0//EN
METHOD:PUBLISH
X-PUBLISHED-TTL:P3D
REFRESH-INTERVAL:P3D
CALSCALE:GREGORIAN
BEGIN:VEVENT
DTSTART:20170607T160000Z
DTEND:20170607T180000Z
X-MICROSOFT-CDO-ALLDAYEVENT:FALSE
SUMMARY:Homelessness South Service Area Meetings
DESCRIPTION:Homelessness Service Area Meetings will focus on two main ideas\, education and action. Attendees will be receiving updates on key initiatives happening at the Country level and in each region\, as well as actionable takeaways that will focus on local\, state\, and federal advocacy efforts.
X-ALT-DESC;FMTTYPE=text/html:Homelessness Service Area Meetings will focus on two main ideas\, education and action. Attendees will be receiving updates on key initiatives&nbsp\;happening at the Country level and in each region\, as well as actionable takeaways that will focus on local\, state\, and federal advocacy efforts.
LOCATION:Norman P. Murray Community Center 24932 S. Anaheim Blvd Anaheim\, CA 92868
UID:e.887.16174
SEQUENCE:3
DTSTAMP:20260421T014915Z
URL:https://business.nocchamber.com/events/details/homelessness-service-area-meetings-16174
END:VEVENT

END:VCALENDAR
