BEGIN:VCALENDAR
VERSION:2.0
PRODID:-//ChamberMaster//Event Calendar 2.0//EN
METHOD:PUBLISH
X-PUBLISHED-TTL:P3D
REFRESH-INTERVAL:P3D
CALSCALE:GREGORIAN
BEGIN:VEVENT
DTSTART:20170608T200000Z
DTEND:20170608T220000Z
X-MICROSOFT-CDO-ALLDAYEVENT:FALSE
SUMMARY:Homelessness North Service Area Meeting
DESCRIPTION:ACCOC's Homelessness Service Area Meetings will focus on two main ideas\, education and action. Attendees will be receiving updates on key initiatives happening at the Country level and in each region\, as well as actionable takeaways that will focus on local\, state\, and federal advocacy efforts.
X-ALT-DESC;FMTTYPE=text/html:ACCOC&#39\;s Homelessness Service Area Meetings will focus on two main ideas\, education and action. Attendees will be receiving updates on key initiatives&nbsp\;happening at the Country level and in each region\, as well as actionable takeaways that will focus on local\, state\, and federal advocacy efforts.
LOCATION:Gordon Hoyt Conference Center 201 S. Anaheim Blvd Anaheim CA 92868
UID:e.887.16176
SEQUENCE:3
DTSTAMP:20260421T015129Z
URL:https://business.nocchamber.com/events/details/homelessness-north-service-area-meeting-16176
END:VEVENT

END:VCALENDAR
