BEGIN:VCALENDAR
VERSION:2.0
PRODID:-//ChamberMaster//Event Calendar 2.0//EN
METHOD:PUBLISH
X-PUBLISHED-TTL:P3D
REFRESH-INTERVAL:P3D
CALSCALE:GREGORIAN
BEGIN:VEVENT
DTSTART:20190621T160000Z
DTEND:20190621T210000Z
X-MICROSOFT-CDO-ALLDAYEVENT:FALSE
SUMMARY:HomeAid: Builders for Babies
DESCRIPTION:Join elected officials\, community partners and Southern California's premier homebuilders for the 5th Annual "Builders for Babies" competition to benefit HomeAid Orange County's Essentials  Diaper Drive. Essentials is a month-long countywide campaign to collect critical baby items such as diapers\, baby food\, wipes and other toiletry items for families with young children who are experiencing homelessness. \n\n\n\nAt the Builders for Babies event\, teams of homebuilders will compete to build the best homes and structures made entirely of diapers. Hundreds of volunteers will be onsite to assist in loading UPS trucks and packing palettes of donated items which will benefit 23 shelters for families experiencing homelessness\, including Precious Life Shelter (Los Alamitos)\, Families Forward (Irvine)\, South County Outreach and HomeAid Family CareCenter (Orange). This festive event will include music\, food\, and booths and is open to the public.
X-ALT-DESC;FMTTYPE=text/html:Join elected officials\, community partners and Southern California&rsquo\;s premier homebuilders for the 5th Annual &ldquo\;Builders for Babies&rdquo\; competition to benefit HomeAid Orange County&rsquo\;s Essentials&reg\; Diaper Drive. Essentials is a month-long countywide campaign to collect critical baby items such as diapers\, baby food\, wipes and other toiletry items for families with young children who are experiencing homelessness.&nbsp\;<br />\n<br />\nAt the Builders for Babies event\, teams of homebuilders will compete to build the best homes and structures made entirely of diapers. Hundreds of volunteers will be onsite to assist in loading UPS trucks and packing palettes of donated items which will benefit 23 shelters for families experiencing homelessness\, including Precious Life Shelter (Los Alamitos)\, Families Forward (Irvine)\, South County Outreach and HomeAid Family CareCenter (Orange). This festive event will include music\, food\, and booths and is open to the public.
LOCATION:Angels Stadium (under the Big "A") 2000 E Gene Autry Way Anaheim\, CA 92806
UID:e.887.23399
SEQUENCE:3
DTSTAMP:20260422T041513Z
URL:https://business.nocchamber.com/events/details/homeaid-builders-for-babies-23399
END:VEVENT

END:VCALENDAR
