BEGIN:VCALENDAR
VERSION:2.0
PRODID:-//ChamberMaster//Event Calendar 2.0//EN
METHOD:PUBLISH
X-PUBLISHED-TTL:P3D
REFRESH-INTERVAL:P3D
CALSCALE:GREGORIAN
BEGIN:VEVENT
DTSTART:20190816T023000Z
DTEND:20190816T043000Z
X-MICROSOFT-CDO-ALLDAYEVENT:FALSE
SUMMARY:Holy Crow Jazz Band at The Muckenthaler Cultural Center
DESCRIPTION:Holy Crow Jazz Band emits signature sounds of Dixieland horns and sultry voices. After performing at The Muck's 2018 Speakeasy\, they will now be returning to the main stage. The band's repertoire includes many popular and obscure songs recorded by such artists as King Oliver\, Bessie Smith\, Louis Armstrong\, as well as original compositions.
X-ALT-DESC;FMTTYPE=text/html:<p>Holy Crow Jazz Band emits signature sounds of&nbsp\;Dixieland horns and sultry voices. After performing at The Muck&#39\;s 2018 Speakeasy\, they will now be returning to the main stage.&nbsp\;The band&rsquo\;s repertoire includes many popular and obscure songs recorded by such artists as King Oliver\, Bessie Smith\, Louis Armstrong\, as well as original compositions.</p>\n
LOCATION:The Muckenthaler Cultural Center 1201 W Malvern Ave. Fullerton\, CA 92833
UID:e.887.23632
SEQUENCE:3
DTSTAMP:20260422T015743Z
URL:https://business.nocchamber.com/events/details/holy-crow-jazz-band-at-the-muckenthaler-cultural-center-23632
END:VEVENT

END:VCALENDAR
