BEGIN:VCALENDAR
VERSION:2.0
PRODID:-//ChamberMaster//Event Calendar 2.0//EN
METHOD:PUBLISH
X-PUBLISHED-TTL:P3D
REFRESH-INTERVAL:P3D
CALSCALE:GREGORIAN
BEGIN:VEVENT
DTSTART:20181221T010000Z
DTEND:20181221T030000Z
X-MICROSOFT-CDO-ALLDAYEVENT:FALSE
SUMMARY:Holiday Celebration & Toy Drive
DESCRIPTION:District 65 Assemblymember Sharon Quirk-Silva is hosting the annual Holiday Celebration & Toy Drive. Attendees can discuss legislative issues of interest to the community and learn about services provided by the District Office.\n\n\n\nDonations of new\, unwrapped toys will be collected and distributed to local families throughout the Assembly Distrct.\n\n\n\nLight appetizers and refreshments will be provided.
X-ALT-DESC;FMTTYPE=text/html:District 65 Assemblymember Sharon Quirk-Silva is hosting the annual Holiday Celebration &amp\; Toy Drive. Attendees can&nbsp\;discuss legislative issues of interest to the community and learn about services provided by the District Office.<br />\n<br />\nDonations of new\, unwrapped toys will be collected and distributed to local families throughout the Assembly Distrct.<br />\n<br />\nLight appetizers and refreshments will be provided.
LOCATION:Gilbert West High School 6855 La Palma Ave. Buena Park\, CA 90620
UID:e.887.22902
SEQUENCE:3
DTSTAMP:20260422T114120Z
URL:https://business.nocchamber.com/events/details/holiday-celebration-toy-drive-22902
END:VEVENT

END:VCALENDAR
