BEGIN:VCALENDAR
VERSION:2.0
PRODID:-//ChamberMaster//Event Calendar 2.0//EN
METHOD:PUBLISH
X-PUBLISHED-TTL:P3D
REFRESH-INTERVAL:P3D
CALSCALE:GREGORIAN
BEGIN:VEVENT
DTSTART:20170707T010000Z
DTEND:20170707T040000Z
X-MICROSOFT-CDO-ALLDAYEVENT:FALSE
SUMMARY:Hiring Made Easy
DESCRIPTION:Hiring the right person is the key to success to any business. Barry McKinley has operated in 10 different companies in 5 different industries. Barry invites business owners to learn about how to find\, interview\, hire motivate\, compensate and avoid or prevent lawsuits.\n\n\n\nThis workshop will cover:\n\n	What Are You Looking For?\n	Creating Job Descriptions & Ads\n	Resumes\n	Finding The Applicants\n	Questions To Ask\n	Interview Stoppers\n	Testing\n	References\n	Making An Offer\n	Motivating Employees\n	Terminations
X-ALT-DESC;FMTTYPE=text/html:Hiring the right person is the key to success to any business. Barry McKinley has operated in 10 different companies in 5 different industries. Barry invites business owners to learn about how to find\, interview\, hire motivate\, compensate and avoid or prevent lawsuits.<br />\n<br />\nThis workshop will cover:\n<ul>\n	<li>What Are You Looking For?</li>\n	<li>Creating Job Descriptions &amp\; Ads</li>\n	<li>Resumes</li>\n	<li>Finding The Applicants</li>\n	<li>Questions To Ask</li>\n	<li>Interview Stoppers</li>\n	<li>Testing</li>\n	<li>References</li>\n	<li>Making An Offer</li>\n	<li>Motivating Employees</li>\n	<li>Terminations</li>\n</ul>\n
LOCATION:Brea Chamber of Commerce Conference Center 1 Civic Center Circle 2nd Floor Brea\, CA 92821
UID:e.887.16240
SEQUENCE:3
DTSTAMP:20260421T013430Z
URL:https://business.nocchamber.com/events/details/hiring-made-easy-16240
END:VEVENT

END:VCALENDAR
