BEGIN:VCALENDAR
VERSION:2.0
PRODID:-//ChamberMaster//Event Calendar 2.0//EN
METHOD:PUBLISH
X-PUBLISHED-TTL:P3D
REFRESH-INTERVAL:P3D
CALSCALE:GREGORIAN
BEGIN:VEVENT
DTSTART:20190503T000000Z
DTEND:20190503T020000Z
X-MICROSOFT-CDO-ALLDAYEVENT:FALSE
SUMMARY:Hidalgo's Grand Opening
DESCRIPTION:Celebrate the grand opening of Hidalgo's Cocina and Cocteles. Enjoy complimentary samplings of menu items and specialty cocktails.
X-ALT-DESC;FMTTYPE=text/html:Celebrate the grand opening of Hidalgo&#39\;s Cocina and Cocteles. Enjoy complimentary samplings of menu items and specialty cocktails.
LOCATION:Hidalgo's 305 N. Harbor Blvd. Fullerton\, CA\, 92832
UID:e.887.23132
SEQUENCE:3
DTSTAMP:20260422T065335Z
URL:https://business.nocchamber.com/events/details/hidalgo-s-grand-opening-23132
END:VEVENT

END:VCALENDAR
