BEGIN:VCALENDAR
VERSION:2.0
PRODID:-//ChamberMaster//Event Calendar 2.0//EN
METHOD:PUBLISH
X-PUBLISHED-TTL:P3D
REFRESH-INTERVAL:P3D
CALSCALE:GREGORIAN
BEGIN:VEVENT
DTSTART:20190625T150000Z
DTEND:20190625T170000Z
X-MICROSOFT-CDO-ALLDAYEVENT:FALSE
SUMMARY:Health Care Sector-Focused Workforce Solutions
DESCRIPTION:With a low unemployment rate\, intense competition\, and a sector that changes faster than you can say "workforce\," health care companies must get creative when it comes to training health care professionals. To address workforce challenges\, the Orange County Regional Planning Unit and the State of California Division of Apprenticeship Standards works with companies to identify jobs that can be filled by highly competent people\, regardless of educational background.\n\n\n\nJoin in and learn how you can start building a registered apprenticeship program.\nApprenticeship is an established practice in other industries for developing talent\, combining classroom instruction and On-the Job training under the supervision of an industry professional. Apprenticeship reduces the need for expensive recruitment programs by creating a flow of candidates who are already screened and trained. The cost of wages for apprentices is less than that for regular employees. Additionally\, apprentices who complete a program often feel a commitment to their work and loyalty to their employer. The health care apprenticeship program model has proven to be effective in training workers all across the nation.\n\nYour Business\, Your Design\n\nThe Division of Apprenticeship Standards works with industry to create standard job taxonomies for apprenticeable technical jobs that lead to a career in the industry. The program offers benefits to companies of all sizes. The Division assigns consultant staff to help you develop the training program you need to succeed. Additionally\, apprenticeship programs qualify for a wide variety of subsidized training assistance.\n\nFlexible Pool of Skilled Workers\n\nCraft employee training to help you meet the needs of your industry.\n\nIncrease Productivity\n\nTraining vastly improves efficiency\, production\, and customer service.\n\nEmployee Loyalty\n\nShow your commitment to your employee's future by investing in training. Apprenticeship programs reduce labor turnover and absenteeism through employee motivation to learn new job skills and advancement opportunities.\n\nThe Division of Apprenticeship Standards has nearly 70\,000 registered apprentices in over 600 training programs Statewide. California apprenticeship programs graduate nearly 8\,000 apprentices annually.\n\nExample health care career tracks may include\, but are not limited to:\n\n  Cooks\, Institution & Cafeteria\n\n  Dental Assistants\n\n  Dental Laboratory Technicians\n\n  Emergency Management Directors\n\n  Emergency Medical Technicians & Paramedics\n\n  Home Health Aides\n\n  Licensed Practical & Licensed Vocational Nurses\n\n  Medical & Clinical Laboratory Technicians\n\n  Medical & Health Services Managers\n\n  Medical Appliance Technicians\n\n  Medical Assistants\n\n  Medical Equipment Preparers\n\n  Medical Records & Health Information Technicians\n\n  Nursing Assistants\n\n  Ophthalmic Laboratory Technicians\n\n  Opticians\, Dispensing\n\n  Orthotists & Prosthetists\n\n  Pharmacy Technicians\n\n  Phlebotomists\n\n  Physical Therapy Aide\n\n  Radiologic Technologists\n\n  Residential Advisors\n\n  Surgical Technologists\n\n  Veterinary Assistants & Laboratory Animal Caretakers
X-ALT-DESC;FMTTYPE=text/html:With a low unemployment rate\, intense competition\, and a sector that changes faster than you can say &ldquo\;workforce\,&rdquo\; health care companies must get creative when it comes to training health care professionals. To address workforce challenges\, the Orange County Regional Planning Unit and the State of California Division of Apprenticeship Standards works with companies to identify jobs that can be filled by highly competent people\, regardless of educational background.<br />\n<br />\n<span style="color: rgba(0\, 0\, 0\, 0.87)\; font-family: Roboto\, RobotoDraft\, Helvetica\, Arial\, sans-serif\; white-space: pre-wrap\;">Join in and learn how you can start building a registered apprenticeship program.</span>\n<p style="color: rgba(0\, 0\, 0\, 0.87)\; font-family: Roboto\, RobotoDraft\, Helvetica\, Arial\, sans-serif\; white-space: pre-wrap\;">Apprenticeship is an established practice in other industries for developing talent\, combining classroom instruction and On-the Job training under the supervision of an industry professional. Apprenticeship reduces the need for expensive recruitment programs by creating a flow of candidates who are already screened and trained. The cost of wages for apprentices is less than that for regular employees. Additionally\, apprentices who complete a program often feel a commitment to their work and loyalty to their employer. The health care apprenticeship program model has proven to be effective in training workers all across the nation.</p>\n\n<p style="color: rgba(0\, 0\, 0\, 0.87)\; font-family: Roboto\, RobotoDraft\, Helvetica\, Arial\, sans-serif\; white-space: pre-wrap\;">Your Business\, Your Design<br />\nThe Division of Apprenticeship Standards works with industry to create standard job taxonomies for apprenticeable technical jobs that lead to a career in the industry. The program offers benefits to companies of all sizes. The Division assigns consultant staff to help you develop the training program you need to succeed. Additionally\, apprenticeship programs qualify for a wide variety of subsidized training assistance.</p>\n\n<p style="color: rgba(0\, 0\, 0\, 0.87)\; font-family: Roboto\, RobotoDraft\, Helvetica\, Arial\, sans-serif\; white-space: pre-wrap\;">Flexible Pool of Skilled Workers<br />\nCraft employee training to help you meet the needs of your industry.</p>\n\n<p style="color: rgba(0\, 0\, 0\, 0.87)\; font-family: Roboto\, RobotoDraft\, Helvetica\, Arial\, sans-serif\; white-space: pre-wrap\;">Increase Productivity<br />\nTraining vastly improves efficiency\, production\, and customer service.</p>\n\n<p style="color: rgba(0\, 0\, 0\, 0.87)\; font-family: Roboto\, RobotoDraft\, Helvetica\, Arial\, sans-serif\; white-space: pre-wrap\;">Employee Loyalty<br />\nShow your commitment to your employee&rsquo\;s future by investing in training. Apprenticeship programs reduce labor turnover and absenteeism through employee motivation to learn new job skills and advancement opportunities.</p>\n\n<p style="color: rgba(0\, 0\, 0\, 0.87)\; font-family: Roboto\, RobotoDraft\, Helvetica\, Arial\, sans-serif\; white-space: pre-wrap\;">The Division of Apprenticeship Standards has nearly 70\,000 registered apprentices in over 600 training programs Statewide. California apprenticeship programs graduate nearly 8\,000 apprentices annually.</p>\n\n<p style="color: rgba(0\, 0\, 0\, 0.87)\; font-family: Roboto\, RobotoDraft\, Helvetica\, Arial\, sans-serif\; white-space: pre-wrap\;">Example health care career tracks may include\, but are not limited to:<br />\n&bull\; Cooks\, Institution &amp\; Cafeteria<br />\n&bull\; Dental Assistants<br />\n&bull\; Dental Laboratory Technicians<br />\n&bull\; Emergency Management Directors<br />\n&bull\; Emergency Medical Technicians &amp\; Paramedics<br />\n&bull\; Home Health Aides<br />\n&bull\; Licensed Practical &amp\; Licensed Vocational Nurses<br />\n&bull\; Medical &amp\; Clinical Laboratory Technicians<br />\n&bull\; Medical &amp\; Health Services Managers<br />\n&bull\; Medical Appliance Technicians<br />\n&bull\; Medical Assistants<br />\n&bull\; Medical Equipment Preparers<br />\n&bull\; Medical Records &amp\; Health Information Technicians<br />\n&bull\; Nursing Assistants<br />\n&bull\; Ophthalmic Laboratory Technicians<br />\n&bull\; Opticians\, Dispensing<br />\n&bull\; Orthotists &amp\; Prosthetists<br />\n&bull\; Pharmacy Technicians<br />\n&bull\; Phlebotomists<br />\n&bull\; Physical Therapy Aide<br />\n&bull\; Radiologic Technologists<br />\n&bull\; Residential Advisors<br />\n&bull\; Surgical Technologists<br />\n&bull\; Veterinary Assistants &amp\; Laboratory Animal Caretakers</p>\n
LOCATION:County of Orange Procurement Office 1300 S. Grand Ave. Bldg A 2nd Floor\, CPO Training Room Santa Ana\, CA 92705
UID:e.887.23410
SEQUENCE:3
DTSTAMP:20260422T041547Z
URL:https://business.nocchamber.com/events/details/health-care-sector-focused-workforce-solutions-23410
END:VEVENT

END:VCALENDAR
