BEGIN:VCALENDAR
VERSION:2.0
PRODID:-//ChamberMaster//Event Calendar 2.0//EN
METHOD:PUBLISH
X-PUBLISHED-TTL:P3D
REFRESH-INTERVAL:P3D
CALSCALE:GREGORIAN
BEGIN:VEVENT
DTSTART:20190823T230000Z
DTEND:20190824T010000Z
X-MICROSOFT-CDO-ALLDAYEVENT:FALSE
SUMMARY:Happy Hour Mixer at Pickled Monk
DESCRIPTION:The North Orange County Chamber Leads Group invites you to a Happy Hour Mixer at Pickled Monk in Downtown Fullerton. \n\n\n\nMix and mingle with business professionals in a fun and relaxed setting. Bring a raffle item to further promote your business.\n\n\n\nNo host bar and full menu available.
X-ALT-DESC;FMTTYPE=text/html:The North Orange County Chamber Leads Group invites you to a Happy Hour Mixer at Pickled Monk in Downtown Fullerton.&nbsp\;<br />\n<br />\nMix and mingle with business professionals in a fun and relaxed setting. Bring a raffle item to further promote your business.<br />\n<br />\nNo host bar and full menu available.
LOCATION:Pickled Monk 101 N. Harbor Blvd. Fullerton\, CA 92832
UID:e.887.23607
SEQUENCE:3
DTSTAMP:20260422T015405Z
URL:https://business.nocchamber.com/events/details/happy-hour-mixer-at-pickled-monk-23607
END:VEVENT

END:VCALENDAR
