BEGIN:VCALENDAR
VERSION:2.0
PRODID:-//ChamberMaster//Event Calendar 2.0//EN
METHOD:PUBLISH
X-PUBLISHED-TTL:P3D
REFRESH-INTERVAL:P3D
CALSCALE:GREGORIAN
BEGIN:VEVENT
DTSTART:20190610T230000Z
DTEND:20190611T030000Z
X-MICROSOFT-CDO-ALLDAYEVENT:FALSE
SUMMARY:Hampton Inn & Suites Buena Park Ribbon Cutting
DESCRIPTION:Join us for a ribbon cutting to celebrate the grand opening of the Hampton Inn & Suites by Hilton in Buena Park.
X-ALT-DESC;FMTTYPE=text/html:Join us for a ribbon cutting to celebrate the grand opening of the <font face="calibri\, sans-serif"><span style="font-size: 14.6667px\;"><a href="https://hamptoninn3.hilton.com/en/hotels/california/hampton-inn-and-suites-buena-park-LGBBUHX/index.html" target="_blank">Hampton Inn &amp\; Suites by Hilton</a> in Buena Park.</span></font>
LOCATION:Hampton Inn & Suites by Hilton Buena Park 7307 Artesia Blvd. Buena Park\, CA 90621
UID:e.887.23262
SEQUENCE:3
DTSTAMP:20260422T041803Z
URL:https://business.nocchamber.com/events/details/hampton-inn-suites-buena-park-ribbon-cutting-23262
END:VEVENT

END:VCALENDAR
