BEGIN:VCALENDAR
VERSION:2.0
PRODID:-//ChamberMaster//Event Calendar 2.0//EN
METHOD:PUBLISH
X-PUBLISHED-TTL:P3D
REFRESH-INTERVAL:P3D
CALSCALE:GREGORIAN
BEGIN:VEVENT
DTSTART:20190918T190000Z
DTEND:20190918T210000Z
X-MICROSOFT-CDO-ALLDAYEVENT:FALSE
SUMMARY:Hair Force Salon Ribbon Cutting
DESCRIPTION:Join us for the official grand opening and ribbon cutting ceremony to celebrate the opening of Hair Force Salon in Fullerton. Ribbon cutting at 12:15 p.m.
X-ALT-DESC;FMTTYPE=text/html:<span style="color: rgb(68\, 68\, 68)\; font-family: Arial\, Helvetica\, sans-serif\; font-size: 14px\;">Join us for the official grand opening and ribbon cutting ceremony to celebrate the opening of<a href="http://www.thehairforcesalon.com/" target="_blank"> Hair Force Salon</a></span><span style="color: rgb(68\, 68\, 68)\; font-family: Arial\, Helvetica\, sans-serif\; font-size: 14px\;">&nbsp\;in Fullerton. <u><strong>Ribbon cutting at 12:15 p.m.</strong></u></span>
LOCATION:Hair Force Salon 313 N Euclid St. Fullerton\, CA 92832
UID:e.887.23682
SEQUENCE:3
DTSTAMP:20260422T002709Z
URL:https://business.nocchamber.com/events/details/hair-force-ribbon-cutting-23682
END:VEVENT

END:VCALENDAR
