BEGIN:VCALENDAR
VERSION:2.0
PRODID:-//ChamberMaster//Event Calendar 2.0//EN
METHOD:PUBLISH
X-PUBLISHED-TTL:P3D
REFRESH-INTERVAL:P3D
CALSCALE:GREGORIAN
BEGIN:VEVENT
DTSTART:20190823T023000Z
DTEND:20190823T043000Z
X-MICROSOFT-CDO-ALLDAYEVENT:FALSE
SUMMARY:Haemil: Traditional Korean Music and Storytelling at The Muckenthaler Cultural Center
DESCRIPTION:Pansori (also spelled p'ansori) is a Korean genre of musical storytelling performed by a vocalist and a drummer. Korean Traditional Music "Haemil" Team returns to The Muck to bridge the gap between different cultures\, delivering harmonies and educating through traditional and modern instruments.
X-ALT-DESC;FMTTYPE=text/html:<p>Pansori (also spelled p&rsquo\;ansori) is a Korean genre of musical storytelling performed by a vocalist and a drummer. Korean Traditional Music &ldquo\;Haemil&rdquo\; Team returns to The Muck to bridge the gap between different cultures\, delivering harmonies and educating through traditional and modern instruments.</p>\n
LOCATION:The Muckenthaler Cultural Center 1201 W Malvern Ave Fullerton\, CA 92833
UID:e.887.23634
SEQUENCE:3
DTSTAMP:20260422T015721Z
URL:https://business.nocchamber.com/events/details/haemil-traditional-korean-music-and-storytelling-at-the-muckenthaler-cultural-center-23634
END:VEVENT

END:VCALENDAR
