BEGIN:VCALENDAR
VERSION:2.0
PRODID:-//ChamberMaster//Event Calendar 2.0//EN
METHOD:PUBLISH
X-PUBLISHED-TTL:P3D
REFRESH-INTERVAL:P3D
CALSCALE:GREGORIAN
BEGIN:VEVENT
DTSTART:20190816T003000Z
DTEND:20190816T020000Z
X-MICROSOFT-CDO-ALLDAYEVENT:FALSE
SUMMARY:Habitat OC - Women Build Meeting
DESCRIPTION:Women Build OC recruits\, educates\, and inspires women to build and advocate for simple\, decent\, and affordable housing in their communities. Meetings are held once a month at the Habitat OC office.
X-ALT-DESC;FMTTYPE=text/html:Women Build OC&nbsp\;recruits\, educates\, and inspires women to build and advocate for simple\, decent\, and affordable housing in their communities.&nbsp\;Meetings are held once a month at the Habitat OC office.&nbsp\;
LOCATION:For information on the location\, please contact the Women Build team at (714) 434--6200 ext. 234 or WomenBuild@HabitatOC.org.
UID:e.887.23663
SEQUENCE:3
DTSTAMP:20260422T024903Z
URL:https://business.nocchamber.com/events/details/habitat-oc-women-build-meeting-23663
END:VEVENT

END:VCALENDAR
