BEGIN:VCALENDAR
VERSION:2.0
PRODID:-//ChamberMaster//Event Calendar 2.0//EN
METHOD:PUBLISH
X-PUBLISHED-TTL:P3D
REFRESH-INTERVAL:P3D
CALSCALE:GREGORIAN
BEGIN:VEVENT
DTSTART:20190921T150000Z
DTEND:20190922T000000Z
X-MICROSOFT-CDO-ALLDAYEVENT:FALSE
SUMMARY:Habitat OC - ReStore
DESCRIPTION:Habitat OC is in need of volunteers at the Anaheim Convention Center on Saturday\, September 21st to assist with collecting and packing up merchandise to be donated to the Habitat OC ReStores. Two shifts are available:\n\n\n\n8:00am - 12:00pm\n\n12:30pm - 5:00pm\n\n\n\nSnacks\, water\, t-shirts\, and parking will be provided to all volunteers.\n\n\n\nSign up here.
X-ALT-DESC;FMTTYPE=text/html:Habitat OC is&nbsp\;in need of volunteers at the Anaheim Convention Center on&nbsp\;Saturday\, September 21st&nbsp\;to assist with collecting and packing up merchandise to be donated to the Habitat OC ReStores. Two shifts are available:<br />\n<br />\n<a data-auth="NotApplicable" href="https://habitatoc.us17.list-manage.com/track/click?u=54471df673144ae3c543d72ec&amp\;id=24c7db2e23&amp\;e=e61268be10" rel="noopener noreferrer" target="_blank">8:00am - 12:00pm</a><br />\n<a data-auth="NotApplicable" href="https://habitatoc.us17.list-manage.com/track/click?u=54471df673144ae3c543d72ec&amp\;id=c943932531&amp\;e=e61268be10" rel="noopener noreferrer" target="_blank">12:30pm - 5:00pm</a><br />\n<br />\nSnacks\, water\, t-shirts\, and parking will be provided to all volunteers.<br />\n<br />\n<a href="https://habitatoc.volunteerhub.com/account/signin?ReturnUrl=%2f%3fformat%3dCalendar%26filter%3d56517%26utm_source%3dHabitat%2bfor%2bHumanity%2bof%2bOrange%2bCounty%26utm_campaign%3d82d05a5d50-EMAIL_CAMPAIGN_2018_01_12_COPY_01%26utm_medium%3demail%26utm_term%3d0_86e95916b9-82d05a5d50-71542233&amp\;format=Calendar&amp\;filter=56517&amp\;utm_source=Habitat+for+Humanity+of+Orange+County&amp\;utm_campaign=82d05a5d50-EMAIL_CAMPAIGN_2018_01_12_COPY_01&amp\;utm_medium=email&amp\;utm_term=0_86e95916b9-82d05a5d50-71542233" target="_blank">Sign up here.</a>
LOCATION:Sign up here for information.
UID:e.887.23691
SEQUENCE:3
DTSTAMP:20260422T001909Z
URL:https://business.nocchamber.com/events/details/habitat-oc-restore-23691
END:VEVENT

END:VCALENDAR
