BEGIN:VCALENDAR
VERSION:2.0
PRODID:-//ChamberMaster//Event Calendar 2.0//EN
METHOD:PUBLISH
X-PUBLISHED-TTL:P3D
REFRESH-INTERVAL:P3D
CALSCALE:GREGORIAN
BEGIN:VEVENT
DTSTART:20190904T013000Z
DTEND:20190904T030000Z
X-MICROSOFT-CDO-ALLDAYEVENT:FALSE
SUMMARY:Habitat OC - Hab Night Volunteer Orientation
DESCRIPTION:Habitat OC hosts a monthly Hab Night Volunteer Orientation for interested volunteers to learn more about Habitat OC's mission\, meet staff and hear about how to get involved in our upcoming opportunities.\n\n\n\nHere are the details for the next Hab Night:\n\nDate: Tuesday\, September 3\, 2019\n\nLocation: Sisters of Saint Joseph Center\n\nMother Luis Room\n\n480 S. Batavia St.\, Orange\, CA 92868 \n\nTime: 6:30 p.m. to 8:00 p.m.\n\n\n\n**Hab Night attendance is not mandatory to begin volunteering**
X-ALT-DESC;FMTTYPE=text/html:Habitat OC hosts a monthly Hab Night Volunteer Orientation for interested volunteers&nbsp\;to learn more about Habitat OC&#39\;s mission\, meet staff and hear about how to get involved in our upcoming opportunities.<br />\n<br />\nHere are the details for the next Hab Night:<br />\nDate:&nbsp\;Tuesday\, September 3\, 2019<br />\nLocation:&nbsp\;Sisters of Saint Joseph Center<br />\nMother Luis&nbsp\;Room<br />\n480 S. Batavia St.\, Orange\, CA 92868&nbsp\;<br />\nTime:&nbsp\;6:30 p.m. to 8:00 p.m.<br />\n<br />\n**Hab Night attendance&nbsp\;is&nbsp\;not mandatory&nbsp\;to begin volunteering**
LOCATION:Sisters of Saint Joseph Center Mother Luis Room 480 S. Batavia St. Orange\, CA 92868
UID:e.887.23684
SEQUENCE:3
DTSTAMP:20260422T013913Z
URL:https://business.nocchamber.com/events/details/habitat-oc-hab-night-volunteer-orientation-23684
END:VEVENT

END:VCALENDAR
