BEGIN:VCALENDAR
VERSION:2.0
PRODID:-//ChamberMaster//Event Calendar 2.0//EN
METHOD:PUBLISH
X-PUBLISHED-TTL:P3D
REFRESH-INTERVAL:P3D
CALSCALE:GREGORIAN
BEGIN:VEVENT
DTSTART;VALUE=DATE:20191005
DTEND;VALUE=DATE:20191006
TRANSP:TRANSPARENT
X-MICROSOFT-CDO-ALLDAYEVENT:TRUE
SUMMARY:Habitat OC - Building Tomorrow Playhouse Design Contest and Auction
DESCRIPTION:On Saturday\, October 5th\, Habitat OC will be hosting its first Building Tomorrow Playhouse Design Contest and Auction\, and there are many ways to get involved:\n\n\n\nPlayhouse Kit Preparation - To get ready for the big event\, Habitat OC will be hosting several Playhouse Kit Prep days throughout August and September. Signup on VolunteerHub today.\n\n\n\nPlayhouse Crew Leaders - Habitat OC is currently recruiting and training volunteers to help lead teams through the process of assembling and decorating our kits! Current Crew Leaders can sign up now for the event on VolunteerHub.\n\n\n\nOtherwise\, please join Habitat OC for a Playhouse Training day: Saturday\, September 14th
X-ALT-DESC;FMTTYPE=text/html:On&nbsp\;Saturday\, October 5th\,&nbsp\;Habitat OC will be hosting its first Building Tomorrow Playhouse Design&nbsp\;Contest and Auction\, and there are many ways to get involved:<br />\n<br />\nPlayhouse Kit Preparation&nbsp\;-&nbsp\;To get ready for the big&nbsp\;event\, Habitat OC will be hosting several Playhouse Kit Prep days throughout August and September. Signup on&nbsp\;<a data-auth="NotApplicable" href="https://habitatoc.us17.list-manage.com/track/click?u=54471df673144ae3c543d72ec&amp\;id=894f1eca91&amp\;e=e61268be10" rel="noopener noreferrer" target="_blank">VolunteerHub</a>&nbsp\;today.<br />\n<br />\nPlayhouse Crew Leaders&nbsp\;- Habitat OC is currently recruiting and training volunteers to help lead teams&nbsp\;through the process of assembling and decorating our kits!&nbsp\;Current Crew Leaders can sign up now for the event on&nbsp\;<a data-auth="NotApplicable" href="https://habitatoc.us17.list-manage.com/track/click?u=54471df673144ae3c543d72ec&amp\;id=28b25c6748&amp\;e=e61268be10" rel="noopener noreferrer" target="_blank">VolunteerHub</a>.<br />\n<br />\nOtherwise\, please join Habitat OC for a Playhouse Training day:&nbsp\;<a data-auth="NotApplicable" href="https://habitatoc.us17.list-manage.com/track/click?u=54471df673144ae3c543d72ec&amp\;id=bc64a4aaef&amp\;e=e61268be10" rel="noopener noreferrer" target="_blank">Saturday\, September 14th</a>
LOCATION:Click here for more information.
UID:e.887.23692
SEQUENCE:3
DTSTAMP:20260421T231309Z
URL:https://business.nocchamber.com/events/details/habitat-oc-building-tomorrow-playhouse-design-contest-and-auction-23692
END:VEVENT

END:VCALENDAR
