BEGIN:VCALENDAR
VERSION:2.0
PRODID:-//ChamberMaster//Event Calendar 2.0//EN
METHOD:PUBLISH
X-PUBLISHED-TTL:P3D
REFRESH-INTERVAL:P3D
CALSCALE:GREGORIAN
BEGIN:VEVENT
DTSTART:20180804T163000Z
DTEND:20180804T190000Z
X-MICROSOFT-CDO-ALLDAYEVENT:FALSE
SUMMARY:Habitat for Humanity of Orange County to Welcome Families to Their New Homes in Fullerton
DESCRIPTION:Habitat for Humanity of Orange County families\, donors\, dignitaries\, and volunteers are making final preparations for the dedication of two new homes to two families at 308 West Truslow Avenue in Fullerton on Saturday\, August 4\, 2018\, beginning at 10:00 a.m. These families will be receiving the keys to their new Habitat for Humanity of Orange County home just in time to move in before school starts as they attain the American dream of homeownership in Fullerton. This will be Habitat OC's 216th and 217th homes in Orange County.\n\n\n\n"We are very grateful to the city of Fullerton for partnering with us to build affordable homes for hardworking families\," said Sharon Ellis\, President/CEO\, Habitat for Humanity of Orange County. \n\n \n\nThe Habitat for Humanity of Orange County Visions will be laying of hands by all attendees during neighborhood blessing\, families receiving the keys to their new home\, and families welcoming guests to their home for the first time:\n\n	9:30 a.m.         Registration/arrival of guests and families with refreshments provided \n	10:00 a.m.       Program begins. Includes remarks from dignitaries\, presentation of house keys to families\, brief remarks by families and donors\, and a neighborhood blessing. \n	11:00 a.m.       Event ends\, tour of homes begins. \n\nThis is Habitat for Humanity of Orange County's second development in the city of Fullerton. The first development included 11 Habitat for Humanity of Orange County homes and were completed in 2010.\n\n \n\nFor more information on the Habitat for Humanity of Orange County homes in Fullerton\, contact Gladys Hernandez at (714) 434-6200 extension 229 or Gladys@HabitatOC.org.
X-ALT-DESC;FMTTYPE=text/html:Habitat for Humanity of Orange County families\, donors\, dignitaries\, and&nbsp\;volunteers are making final preparations for the&nbsp\;<strong>dedication of two new homes to two families</strong>&nbsp\;at 308 West Truslow Avenue in Fullerton on Saturday\, August 4\, 2018\, beginning at 10:00 a.m. These families will be receiving the keys to their new Habitat for Humanity of Orange County home just in time to move in before school starts&nbsp\;as they attain the American dream of homeownership in Fullerton.&nbsp\;This will be Habitat OC&rsquo\;s 216th and 217th homes in Orange County.<br />\n<br />\n&ldquo\;We are very grateful to the city of Fullerton for partnering with us to build affordable homes for hardworking families\,&rdquo\; said Sharon Ellis\, President/CEO\, Habitat for Humanity of Orange County.&nbsp\;<br />\n&nbsp\;<br />\nThe Habitat for Humanity of Orange County Visions will be laying of hands by all attendees during neighborhood blessing\, families receiving the keys to their new home\, and families welcoming guests to their home for the first time:\n<ul>\n	<li>9:30 a.m.&nbsp\; &nbsp\; &nbsp\; &nbsp\; &nbsp\;Registration/arrival of guests and families with refreshments provided&nbsp\;</li>\n	<li>10:00 a.m.&nbsp\; &nbsp\; &nbsp\; &nbsp\;Program begins. Includes remarks from dignitaries\, presentation of house keys to families\, brief remarks by families and donors\, and a neighborhood blessing.&nbsp\;</li>\n	<li>11:00 a.m.&nbsp\; &nbsp\; &nbsp\; &nbsp\;Event ends\, tour of homes begins.&nbsp\;</li>\n</ul>\nThis is Habitat for Humanity of Orange County&rsquo\;s second development in the city of Fullerton. The first development included 11 Habitat for Humanity of Orange County homes and were completed in 2010.<br />\n&nbsp\;<br />\nFor more information on the Habitat for Humanity of Orange County homes in Fullerton\,&nbsp\;contact Gladys Hernandez at (714) 434-6200 extension 229 or&nbsp\;<a href="file://habfile/shared/Marketing%20&amp\;%20Advertising/Press%20Releases/QBE%2011.6.14/Gladys@HabitatOC.org">Gladys@HabitatOC.org</a>.
LOCATION:308 West Truslow Avenue Fullerton\, CA 92832
UID:e.887.22581
SEQUENCE:3
DTSTAMP:20260422T092101Z
URL:https://business.nocchamber.com/events/details/habitat-for-humanity-of-orange-county-to-welcome-families-to-their-new-homes-in-fullerton-22581
END:VEVENT

END:VCALENDAR
