BEGIN:VCALENDAR
VERSION:2.0
PRODID:-//ChamberMaster//Event Calendar 2.0//EN
METHOD:PUBLISH
X-PUBLISHED-TTL:P3D
REFRESH-INTERVAL:P3D
CALSCALE:GREGORIAN
BEGIN:VEVENT
DTSTART:20190321T143000Z
DTEND:20190321T160000Z
X-MICROSOFT-CDO-ALLDAYEVENT:FALSE
SUMMARY:Habitat for Humanity - Building Dreams Fundraising Breakfast
DESCRIPTION:Habitat for Humanity's annual Building Dreams Fundraising Breakfast:\n\n	Featuring Habitat OC Homeowners\n	Expectations of the coming year\n	Chance to support the mission and vision of Habitat for Humanity for Orange County
X-ALT-DESC;FMTTYPE=text/html:Habitat for Humanity&#39\;s annual Building Dreams Fundraising Breakfast:\n<ul>\n	<li>Featuring Habitat OC Homeowners</li>\n	<li>Expectations of the coming year</li>\n	<li>Chance to support the mission and vision of Habitat for Humanity for Orange County</li>\n</ul>\n
LOCATION:DoubleTree by Hilton Irvine Spectrum 90 Pacifica Irvine\, CA 92618
UID:e.887.22961
SEQUENCE:3
DTSTAMP:20260422T081241Z
URL:https://business.nocchamber.com/events/details/habitat-for-humanity-building-dreams-fundraising-breakfast-22961
END:VEVENT

END:VCALENDAR
