BEGIN:VCALENDAR
VERSION:2.0
PRODID:-//ChamberMaster//Event Calendar 2.0//EN
METHOD:PUBLISH
X-PUBLISHED-TTL:P3D
REFRESH-INTERVAL:P3D
CALSCALE:GREGORIAN
BEGIN:VEVENT
DTSTART:20200506T160000Z
DTEND:20200506T170000Z
X-MICROSOFT-CDO-ALLDAYEVENT:FALSE
SUMMARY:Grow with Google - Livestream: Manage Your Business Remotely in Times of Uncertainty
DESCRIPTION:As a Grow with Google Partner\, North Orange County Chamber would like to invite you to tune in to a special livestream for small businesses: Manage Your Business Remotely in Times of Uncertainty.\n\nLearning objective:\n\nDiscover tools\, tips and resources to help you manage your business remotely during the COVID-19 crisis. Learn how to update critical business information online to keep customers informed\, and how to host virtual meetings and events. We'll also share the latest resources from Google and other partners to help support small businesses.\n\nThe Grow with Google team will be hosting this live\, virtual event on May 6\, 2020 at 9 a.m.\n\nInterested in learning about tools like Google My Business\, Google Ads\, Google Meet\, and YouTube? RSVP to tune in today: g.co/grow/smallbizlivestream. In the "how did you hear about this livestream event" you can let the Google team know that you heard from North Orange County Chamber! You can ask questions live during the event on Twitter by using #smallbizlivestream.
X-ALT-DESC;FMTTYPE=text/html:<p dir="ltr">As a Grow with Google Partner\, North Orange County Chamber&nbsp\;would like to invite you to tune in to a special livestream for small businesses: Manage Your Business Remotely in Times of Uncertainty.</p>\n\n<p dir="ltr"><strong>Learning objective:</strong><br />\nDiscover tools\, tips and resources to help you manage your business remotely during the COVID-19 crisis. Learn how to update critical business information online to keep customers informed\, and how to host virtual meetings and events. We&rsquo\;ll also share the latest resources from Google and other partners to help support small businesses.</p>\n\n<p dir="ltr">The Grow with Google team will be hosting this live\, virtual event on May 6\, 2020 at 9 a.m.</p>\n\n<p dir="ltr">Interested in learning about tools like Google My Business\, Google Ads\, Google Meet\, and YouTube? RSVP to tune in today: <a href="http://g.co/grow/smallbizlivestream" target="_blank">g.co/grow/smallbizlivestream</a>. In the &ldquo\;how did you hear about this livestream event&rdquo\; you can let the Google team know that you heard from North Orange County Chamber! You can ask questions live during the event on Twitter by using #smallbizlivestream.</p>\n
LOCATION:Livestream. Register here.
UID:e.887.24297
SEQUENCE:3
DTSTAMP:20260421T144439Z
URL:https://business.nocchamber.com/events/details/grow-with-google-livestream-manage-your-business-remotely-in-times-of-uncertainty-24297
END:VEVENT

END:VCALENDAR
