BEGIN:VCALENDAR
VERSION:2.0
PRODID:-//ChamberMaster//Event Calendar 2.0//EN
METHOD:PUBLISH
X-PUBLISHED-TTL:P3D
REFRESH-INTERVAL:P3D
CALSCALE:GREGORIAN
BEGIN:VEVENT
DTSTART:20190824T170000Z
DTEND:20190824T190000Z
X-MICROSOFT-CDO-ALLDAYEVENT:FALSE
SUMMARY:Grants Workshop
DESCRIPTION:Fourth District County Supervisor Doug Chaffee and 6th District State Assemblywoman Sharon Quirk-Silva are hosting a Grants Workshop\, facilitated by California Consulting\, to help inform local non-profits\, cities\, school districts\, and others about how to obtain funding through various grant opportunities. The event will take place at the Fullerton Public Library.\n\n\n\nRSVP to Austin.mejia@ocgov.com or (714) 714-3165.
X-ALT-DESC;FMTTYPE=text/html:Fourth District County Supervisor Doug Chaffee and 6th District State Assemblywoman Sharon Quirk-Silva are hosting a Grants Workshop\, facilitated by California Consulting\, to help inform local non-profits\, cities\, school districts\, and others about how to obtain funding through various grant opportunities. The event will take place at the Fullerton Public Library.<br />\n<br />\nRSVP to Austin.mejia@ocgov.com or (714) 714-3165.
LOCATION:Fullerton Public Library 353 W. Commonwealth Ave. Fullerton\, CA 92832
UID:e.887.23658
SEQUENCE:3
DTSTAMP:20260422T014236Z
URL:https://business.nocchamber.com/events/details/grants-workshop-23658
END:VEVENT

END:VCALENDAR
